BEGIN:VCALENDAR
VERSION:2.0
PRODID:-//jEvents 2.0 for Joomla//EN
CALSCALE:GREGORIAN
METHOD:PUBLISH
BEGIN:VEVENT
UID:b5e3f892bd5fc6899bf7bd6e7c83ef35
CATEGORIES:Abwesenheit Verena
CREATED:20210121T183655
SUMMARY:Teilbesetzung EJA 
URL;VALUE=URI:https://eja-aalen.de/medien/kalender/icalrepeat.detail/2021/05/31/764/-/tei
 lbesetzung-eja?tmpl=component
DESCRIPTION: Dieser Event wurde importiert von: https://eja-aalen.de/medien/kalender/ic
 alrepeat.detail/2021/05/31/764/-/teilbesetzung-eja?tmpl=component
X-ALT-DESC;FMTTYPE=text/html: <a href="https://eja-aalen.de/medien/kalender/icalrepeat.detail/2021/05/31
 /764/-/teilbesetzung-eja?tmpl=component">Dieser Event wurde importiert von:
  https://eja-aalen.de/medien/kalender/icalrepeat.detail/2021/05/31/764/-/te
 ilbesetzung-eja?tmpl=component</a>DTSTAMP:20260423T224307
DTSTART;VALUE=DATE:20210531
DTEND;VALUE=DATE:20210605
SEQUENCE:0
TRANSP:OPAQUE
END:VEVENT
END:VCALENDAR