BEGIN:VCALENDAR
VERSION:2.0
PRODID:-//jEvents 2.0 for Joomla//EN
CALSCALE:GREGORIAN
METHOD:PUBLISH
BEGIN:VEVENT
UID:0e7a8706ac8d53597ffdb9c3267bb425
CATEGORIES:Abwesenheit Verena
CREATED:20210121T183827
SUMMARY:Teilbesetzung EJA
URL;VALUE=URI:https://eja-aalen.de/medien/kalender/icalrepeat.detail/2021/03/29/766/-/tei
 lbesetzung-eja?tmpl=component
DESCRIPTION: <a href="https://eja-aalen.de/medien/kalender/icalrepeat.detail/2021/03/29
 /766/-/teilbesetzung-eja?tmpl=component">Dieser Event wurde importiert von:
  https://eja-aalen.de/medien/kalender/icalrepeat.detail/2021/03/29/766/-/te
 ilbesetzung-eja?tmpl=component</a>DTSTAMP:20260423T171148
DTSTART;VALUE=DATE:20210329
DTEND;VALUE=DATE:20210403
SEQUENCE:0
TRANSP:OPAQUE
END:VEVENT
END:VCALENDAR