BEGIN:VCALENDAR
VERSION:2.0
PRODID:-//jEvents 2.0 for Joomla//EN
CALSCALE:GREGORIAN
METHOD:PUBLISH
BEGIN:VEVENT
UID:3391ee7cdd74dd9599fc6356432441fc
CATEGORIES:Schulungen
CREATED:20210121T184540
SUMMARY:Grundkurs 2.0 - Start
LOCATION:online / Präsenz
URL;VALUE=URI:https://eja-aalen.de/medien/kalender/icalrepeat.detail/2021/01/23/767/-/gru
 ndkurs-2-0-start?tmpl=component
DESCRIPTION:<p><b>Hier eine &Uuml;bersicht &uuml;ber die Module und die Termine: </b></
 p><ul style="margin-top: 0cm;"><li><b>23.1. &nbsp;13:30-17:30</b>: Kennen l
 ernen // Spielep&auml;dagogik // Kommunikation</li><li><b>27./28.1. &nbsp;1
 9:00-20:30</b>: Entwicklungspsychologie // Rechte und Pflichten</li><li><b>
 8./9.2. &nbsp;19:00-20:30:</b> Organisation // Leitung</li><li><b>23./24.2.
  19:00-20:30:</b> Andachten // biblische Geschichten (Theorie)</li><li><b>1
 3.3. &nbsp;13:30-17:30:</b> Glaubensbekenntnis // Andachten // Spiele (Prax
 is)</li><li><b>14.3. &nbsp;13:30-17:30</b>: Rechtliches // N&auml;he und Di
 stanz // Abschluss</li></ul> <a href="https://eja-aalen.de/medien/kalender/
 icalrepeat.detail/2021/01/23/767/-/grundkurs-2-0-start?tmpl=component">Dies
 er Event wurde importiert von: https://eja-aalen.de/medien/kalender/icalrep
 eat.detail/2021/01/23/767/-/grundkurs-2-0-start?tmpl=component</a>CONTACT:Diese E-Mail-Adresse ist vor Spambots geschützt! Zur Anzeige muss JavaScript eingeschaltet sein!
				document.getElementById('cloakf9b6226ae35eb551f10e6c3f05cc4fd4').innerHTML = '';
				var prefix = '&#109;a' + 'i&#108;' + '&#116;o';
				var path = 'hr' + 'ef' + '=';
				var addyf9b6226ae35eb551f10e6c3f05cc4fd4 = 'gr&#117;ndk&#117;rs' + '&#64;';
				addyf9b6226ae35eb551f10e6c3f05cc4fd4 = addyf9b6226ae35eb551f10e6c3f05cc4fd4 + '&#101;j&#97;-&#97;&#97;l&#101;n' + '&#46;' + 'd&#101;';
				var addy_textf9b6226ae35eb551f10e6c3f05cc4fd4 = 'gr&#117;ndk&#117;rs' + '&#64;' + '&#101;j&#97;-&#97;&#97;l&#101;n' + '&#46;' + 'd&#101;';document.getElementById('cloakf9b6226ae35eb551f10e6c3f05cc4fd4').innerHTML += '<a ' + path + '\'' + prefix + ':' + addyf9b6226ae35eb551f10e6c3f05cc4fd4 + '\'>'+addy_textf9b6226ae35eb551f10e6c3f05cc4fd4+'';
		
X-EXTRAINFO:mit Anmeldung
DTSTAMP:20260426T031341
DTSTART:20210123T133000
DTEND:20210123T173000
SEQUENCE:0
TRANSP:OPAQUE
END:VEVENT
END:VCALENDAR