BEGIN:VCALENDAR
VERSION:2.0
PRODID:-//jEvents 2.0 for Joomla//EN
CALSCALE:GREGORIAN
METHOD:PUBLISH
BEGIN:VEVENT
UID:9d31866b59835f2f6449a81692c44dd1
CATEGORIES:Abwesenheit Verena
CREATED:20210121T190119
SUMMARY:EJA Teilbesetzung - Fortbildung
URL;VALUE=URI:https://eja-aalen.de/medien/kalender/icalrepeat.detail/2021/02/24/769/-/eja
 -teilbesetzung-fortbildung?tmpl=component
DESCRIPTION: <a href="https://eja-aalen.de/medien/kalender/icalrepeat.detail/2021/02/24
 /769/-/eja-teilbesetzung-fortbildung?tmpl=component">Dieser Event wurde imp
 ortiert von: https://eja-aalen.de/medien/kalender/icalrepeat.detail/2021/02
 /24/769/-/eja-teilbesetzung-fortbildung?tmpl=component</a>DTSTAMP:20260425T165844
DTSTART;VALUE=DATE:20210224
DTEND;VALUE=DATE:20210227
SEQUENCE:0
TRANSP:OPAQUE
END:VEVENT
END:VCALENDAR