BEGIN:VCALENDAR
VERSION:2.0
PRODID:-//jEvents 2.0 for Joomla//EN
CALSCALE:GREGORIAN
METHOD:PUBLISH
BEGIN:VEVENT
UID:2efed05238bdfacb9aa0ffa145910f2b
CATEGORIES:Schulungen
CREATED:20210125T151803
SUMMARY:Grundkurs 2.0 Termin II
LOCATION:online / Präsenz
URL;VALUE=URI:https://eja-aalen.de/medien/kalender/icalrepeat.detail/2021/01/27/770/-/gru
 ndkurs-2-0-termin-ii?tmpl=component
DESCRIPTION:Hier eine Übersicht über die Module und die Termine: \n\n - 27.01.21  19:00
 -20:30: Entwicklungspsychologie // Rechte und Pflichten\n - 08.02.21  19:00
 -20:30: Organisation // Leitung\n - 24.02.21  19:00-20:30: Andachten // bib
 lische Geschichten (Theorie)\n - 13.03.21  13:30-17:30: Glaubensbekenntnis 
 // Andachten // Spiele (Praxis)\n - 14.03.21  13:30-17:30: Rechtliches // N
 ähe und Distanz // Abschluss Dieser Event wurde importiert von: https://eja
 -aalen.de/medien/kalender/icalrepeat.detail/2021/01/27/770/-/grundkurs-2-0-
 termin-ii?tmpl=component
X-ALT-DESC;FMTTYPE=text/html:<p><b>Hier eine &Uuml;bersicht &uuml;ber die Module und die Termine: </b></
 p><ul style="margin-top: 0cm;"><li><b>27.01.21&nbsp; 19:00-20:30</b>: Entwi
 cklungspsychologie // Rechte und Pflichten</li><li><b>08.02.21&nbsp; 19:00-
 20:30:</b> Organisation // Leitung</li><li><b>24.02.21&nbsp; 19:00-20:30:</
 b> Andachten // biblische Geschichten (Theorie)</li><li><b>13.03.21&nbsp; 1
 3:30-17:30:</b> Glaubensbekenntnis // Andachten // Spiele (Praxis)</li><li>
 <b>14.03.21&nbsp; 13:30-17:30</b>: Rechtliches // N&auml;he und Distanz // 
 Abschluss</li></ul> <a href="https://eja-aalen.de/medien/kalender/icalrepea
 t.detail/2021/01/27/770/-/grundkurs-2-0-termin-ii?tmpl=component">Dieser Ev
 ent wurde importiert von: https://eja-aalen.de/medien/kalender/icalrepeat.d
 etail/2021/01/27/770/-/grundkurs-2-0-termin-ii?tmpl=component</a>CONTACT:Diese E-Mail-Adresse ist vor Spambots geschützt! Zur Anzeige muss JavaScript eingeschaltet sein!
				document.getElementById('cloak3ef3c5313e7007a182b82153f576d5d2').innerHTML = '';
				var prefix = '&#109;a' + 'i&#108;' + '&#116;o';
				var path = 'hr' + 'ef' + '=';
				var addy3ef3c5313e7007a182b82153f576d5d2 = 'gr&#117;ndk&#117;rs' + '&#64;';
				addy3ef3c5313e7007a182b82153f576d5d2 = addy3ef3c5313e7007a182b82153f576d5d2 + '&#101;j&#97;-&#97;&#97;l&#101;n' + '&#46;' + 'd&#101;';
				var addy_text3ef3c5313e7007a182b82153f576d5d2 = 'gr&#117;ndk&#117;rs' + '&#64;' + '&#101;j&#97;-&#97;&#97;l&#101;n' + '&#46;' + 'd&#101;';document.getElementById('cloak3ef3c5313e7007a182b82153f576d5d2').innerHTML += '<a ' + path + '\'' + prefix + ':' + addy3ef3c5313e7007a182b82153f576d5d2 + '\'>'+addy_text3ef3c5313e7007a182b82153f576d5d2+'';
		
X-EXTRAINFO:mit Anmeldung!
DTSTAMP:20260424T221444
DTSTART:20210127T190000
DTEND:20210127T203000
SEQUENCE:0
TRANSP:OPAQUE
END:VEVENT
END:VCALENDAR