BEGIN:VCALENDAR
VERSION:2.0
PRODID:-//jEvents 2.0 for Joomla//EN
CALSCALE:GREGORIAN
METHOD:PUBLISH
BEGIN:VEVENT
UID:f147a6abc3a8a7818baff130ea2ad212
CATEGORIES:Schulungen
CREATED:20210125T152326
SUMMARY:Grundkurs 2.0 Termin V
LOCATION:Präsenz (ev. Gemeindehaus in Aalen)
URL;VALUE=URI:https://eja-aalen.de/medien/kalender/icalrepeat.detail/2021/03/13/773/-/gru
 ndkurs-2-0-termin-v?tmpl=component
DESCRIPTION:<p><b>Hier eine &Uuml;bersicht &uuml;ber die Module und die Termine: </b></
 p><ul style="margin-top: 0cm;"><li><b>13.03.21&nbsp; 13:30-17:30:</b> Glaub
 ensbekenntnis // Andachten // Spiele (Praxis)</li><li><b>14.03.21&nbsp; 13:
 30-17:30</b>: Rechtliches // N&auml;he und Distanz // Abschluss</li></ul> <
 a href="https://eja-aalen.de/medien/kalender/icalrepeat.detail/2021/03/13/7
 73/-/grundkurs-2-0-termin-v?tmpl=component">Dieser Event wurde importiert v
 on: https://eja-aalen.de/medien/kalender/icalrepeat.detail/2021/03/13/773/-
 /grundkurs-2-0-termin-v?tmpl=component</a>CONTACT:Diese E-Mail-Adresse ist vor Spambots geschützt! Zur Anzeige muss JavaScript eingeschaltet sein!
				document.getElementById('cloak46c0d4dda7a8d43d6ae6439d99d256c2').innerHTML = '';
				var prefix = '&#109;a' + 'i&#108;' + '&#116;o';
				var path = 'hr' + 'ef' + '=';
				var addy46c0d4dda7a8d43d6ae6439d99d256c2 = 'gr&#117;ndk&#117;rs' + '&#64;';
				addy46c0d4dda7a8d43d6ae6439d99d256c2 = addy46c0d4dda7a8d43d6ae6439d99d256c2 + '&#101;j&#97;-&#97;&#97;l&#101;n' + '&#46;' + 'd&#101;';
				var addy_text46c0d4dda7a8d43d6ae6439d99d256c2 = 'gr&#117;ndk&#117;rs' + '&#64;' + '&#101;j&#97;-&#97;&#97;l&#101;n' + '&#46;' + 'd&#101;';document.getElementById('cloak46c0d4dda7a8d43d6ae6439d99d256c2').innerHTML += '<a ' + path + '\'' + prefix + ':' + addy46c0d4dda7a8d43d6ae6439d99d256c2 + '\'>'+addy_text46c0d4dda7a8d43d6ae6439d99d256c2+'';
		
X-EXTRAINFO:mit Anmeldung!
DTSTAMP:20260420T191640
DTSTART:20210313T133000
DTEND:20210313T173000
SEQUENCE:0
TRANSP:OPAQUE
END:VEVENT
END:VCALENDAR