BEGIN:VCALENDAR
VERSION:2.0
PRODID:-//jEvents 2.0 for Joomla//EN
CALSCALE:GREGORIAN
METHOD:PUBLISH
BEGIN:VEVENT
UID:7153c1b692fbe0b3f6d0c82a11426eaf
CATEGORIES:Freizeiten
CREATED:20210218T110730
SUMMARY:Auf geht's- Wochenendtrip ins Altmühltal
URL;VALUE=URI:https://eja-aalen.de/medien/kalender/icalrepeat.detail/2021/09/24/776/-/auf
 -geht-s-wochenendtrip-ins-altmuehltal?tmpl=component
DESCRIPTION:für 16-25 jährige\n Dieser Event wurde importiert von: https://eja-aalen.de
 /medien/kalender/icalrepeat.detail/2021/09/24/776/-/auf-geht-s-wochenendtri
 p-ins-altmuehltal?tmpl=component
X-ALT-DESC;FMTTYPE=text/html:<p>f&uuml;r 16-25 j&auml;hrige</p> <a href="https://eja-aalen.de/medien/kal
 ender/icalrepeat.detail/2021/09/24/776/-/auf-geht-s-wochenendtrip-ins-altmu
 ehltal?tmpl=component">Dieser Event wurde importiert von: https://eja-aalen
 .de/medien/kalender/icalrepeat.detail/2021/09/24/776/-/auf-geht-s-wochenend
 trip-ins-altmuehltal?tmpl=component</a>DTSTAMP:20260420T065757
DTSTART;VALUE=DATE:20210924
DTEND;VALUE=DATE:20210927
SEQUENCE:0
TRANSP:OPAQUE
END:VEVENT
END:VCALENDAR