BEGIN:VCALENDAR
VERSION:2.0
PRODID:-//jEvents 2.0 for Joomla//EN
CALSCALE:GREGORIAN
METHOD:PUBLISH
BEGIN:VEVENT
UID:e83f988988958b75d630e710e92af258
CATEGORIES:Freizeiten
CREATED:20210324T144215
SUMMARY:LKB 2021 - VorbereitungsWE Mitarbeitende
LOCATION:Trochtelfingen\, altes Pfarrhaus (sofern möglich)
URL;VALUE=URI:https://eja-aalen.de/medien/kalender/icalrepeat.detail/2021/05/15/779/-/lkb
 -2021-vorbereitungswe-mitarbeitende?tmpl=component
DESCRIPTION:Vorbereitungstreffen der Mitarbeitenden des LKB Teams\nSamstag: ganzer Tag 
 Aktionen zum Kennenlernen, Planungen, Programmausarbeitung, EJA Grundsätze\
 nSonntag: bis zum Mittag "Reste - Klärung", weitere Schritte bis zur LKB\n 
 Dieser Event wurde importiert von: https://eja-aalen.de/medien/kalender/ica
 lrepeat.detail/2021/05/15/779/-/lkb-2021-vorbereitungswe-mitarbeitende?tmpl
 =component
X-ALT-DESC;FMTTYPE=text/html:<p>Vorbereitungstreffen der Mitarbeitenden des LKB Teams</p><p>Samstag: gan
 zer Tag Aktionen zum Kennenlernen, Planungen, Programmausarbeitung, EJA Gru
 nds&auml;tze</p><p>Sonntag: bis zum Mittag "Reste - Kl&auml;rung", weitere 
 Schritte bis zur LKB</p> <a href="https://eja-aalen.de/medien/kalender/ical
 repeat.detail/2021/05/15/779/-/lkb-2021-vorbereitungswe-mitarbeitende?tmpl=
 component">Dieser Event wurde importiert von: https://eja-aalen.de/medien/k
 alender/icalrepeat.detail/2021/05/15/779/-/lkb-2021-vorbereitungswe-mitarbe
 itende?tmpl=component</a>CONTACT:Diese E-Mail-Adresse ist vor Spambots geschützt! Zur Anzeige muss JavaScript eingeschaltet sein!
				document.getElementById('cloak9800462bccc30aa3b9bf06bb4232e34b').innerHTML = '';
				var prefix = '&#109;a' + 'i&#108;' + '&#116;o';
				var path = 'hr' + 'ef' + '=';
				var addy9800462bccc30aa3b9bf06bb4232e34b = 'lkb' + '&#64;';
				addy9800462bccc30aa3b9bf06bb4232e34b = addy9800462bccc30aa3b9bf06bb4232e34b + '&#101;j&#97;-&#97;&#97;l&#101;n' + '&#46;' + 'd&#101;';
				var addy_text9800462bccc30aa3b9bf06bb4232e34b = 'lkb' + '&#64;' + '&#101;j&#97;-&#97;&#97;l&#101;n' + '&#46;' + 'd&#101;';document.getElementById('cloak9800462bccc30aa3b9bf06bb4232e34b').innerHTML += '<a ' + path + '\'' + prefix + ':' + addy9800462bccc30aa3b9bf06bb4232e34b + '\'>'+addy_text9800462bccc30aa3b9bf06bb4232e34b+'';
		
DTSTAMP:20260425T185641
DTSTART;VALUE=DATE:20210515
DTEND;VALUE=DATE:20210517
SEQUENCE:0
TRANSP:OPAQUE
END:VEVENT
END:VCALENDAR