BEGIN:VCALENDAR
VERSION:2.0
PRODID:-//jEvents 2.0 for Joomla//EN
CALSCALE:GREGORIAN
METHOD:PUBLISH
BEGIN:VEVENT
UID:4a1e5fd92189296300bd4de691f03c81
CATEGORIES:Schulungen
CREATED:20210324T145006
SUMMARY:Mitarbeitendenevent - für Interessierte
LOCATION:ev. Versöhnungskirche Hüttlingen - ggf. online
URL;VALUE=URI:https://eja-aalen.de/medien/kalender/icalrepeat.detail/2021/04/10/780/-/mit
 arbeitendenevent-fuer-interessierte?tmpl=component
DESCRIPTION:3 stündiger Mitarbeitendenevent von 10.00 - 13.00 Uhr\nWir bieten allen Int
 eressierten an diesem Tag verschiedene Workshopideen Rund um das Thema Anda
 chten\nhier gehts zum Flyer: https://www.eja-aalen.de/angebote/schulungen (
 angebote/schulungen)\n Dieser Event wurde importiert von: https://eja-aalen
 .de/medien/kalender/icalrepeat.detail/2021/04/10/780/-/mitarbeitendenevent-
 fuer-interessierte?tmpl=component
X-ALT-DESC;FMTTYPE=text/html:<p>3 st&uuml;ndiger Mitarbeitendenevent von 10.00 - 13.00 Uhr</p><p>Wir bie
 ten allen Interessierten an diesem Tag verschiedene Workshopideen Rund um d
 as Thema Andachten</p><p>hier gehts zum Flyer: <a href="https://eja-aalen.d
 e/angebote/schulungen">https://www.eja-aalen.de/angebote/schulungen</a></p>
  <a href="https://eja-aalen.de/medien/kalender/icalrepeat.detail/2021/04/10
 /780/-/mitarbeitendenevent-fuer-interessierte?tmpl=component">Dieser Event 
 wurde importiert von: https://eja-aalen.de/medien/kalender/icalrepeat.detai
 l/2021/04/10/780/-/mitarbeitendenevent-fuer-interessierte?tmpl=component</a
 >CONTACT:Diese E-Mail-Adresse ist vor Spambots geschützt! Zur Anzeige muss JavaScript eingeschaltet sein!
				document.getElementById('cloak18430194fdea869f806d8b984e723fc8').innerHTML = '';
				var prefix = '&#109;a' + 'i&#108;' + '&#116;o';
				var path = 'hr' + 'ef' + '=';
				var addy18430194fdea869f806d8b984e723fc8 = '&#101;j&#97;' + '&#64;';
				addy18430194fdea869f806d8b984e723fc8 = addy18430194fdea869f806d8b984e723fc8 + '&#101;j&#97;-&#97;&#97;l&#101;n' + '&#46;' + 'd&#101;';
				var addy_text18430194fdea869f806d8b984e723fc8 = '&#101;j&#97;' + '&#64;' + '&#101;j&#97;-&#97;&#97;l&#101;n' + '&#46;' + 'd&#101;';document.getElementById('cloak18430194fdea869f806d8b984e723fc8').innerHTML += '<a ' + path + '\'' + prefix + ':' + addy18430194fdea869f806d8b984e723fc8 + '\'>'+addy_text18430194fdea869f806d8b984e723fc8+'';
		
X-EXTRAINFO:Bei Interesse bitte unbedingt via Mail anmelden!
DTSTAMP:20260425T034225
DTSTART:20210410T100000
DTEND:20210410T130000
SEQUENCE:0
TRANSP:OPAQUE
END:VEVENT
END:VCALENDAR