BEGIN:VCALENDAR
VERSION:2.0
PRODID:-//jEvents 2.0 for Joomla//EN
CALSCALE:GREGORIAN
METHOD:PUBLISH
BEGIN:VEVENT
UID:fc14681887439738f8eff40dfbc9ef9d
CATEGORIES:Region Süd Vakant
CREATED:20210329T133203
SUMMARY:Teilbesetzung EJA
URL;VALUE=URI:https://eja-aalen.de/medien/kalender/icalrepeat.detail/2021/04/01/781/-/tei
 lbesetzung-eja?tmpl=component
DESCRIPTION: <a href="https://eja-aalen.de/medien/kalender/icalrepeat.detail/2021/04/01
 /781/-/teilbesetzung-eja?tmpl=component">Dieser Event wurde importiert von:
  https://eja-aalen.de/medien/kalender/icalrepeat.detail/2021/04/01/781/-/te
 ilbesetzung-eja?tmpl=component</a>DTSTAMP:20260422T101014
DTSTART;VALUE=DATE:20210401
DTEND;VALUE=DATE:20210412
SEQUENCE:0
TRANSP:OPAQUE
END:VEVENT
END:VCALENDAR