BEGIN:VCALENDAR
VERSION:2.0
PRODID:-//jEvents 2.0 for Joomla//EN
CALSCALE:GREGORIAN
METHOD:PUBLISH
BEGIN:VEVENT
UID:10f278dd9c1fd92e279171a626ac882d
CATEGORIES:Freizeiten
CREATED:20210406T144850
SUMMARY:Vorbereitungstreffen Mädchenzeltlager
URL;VALUE=URI:https://eja-aalen.de/medien/kalender/icalrepeat.detail/2021/04/11/783/-/vor
 bereitungstreffen-maedchenzeltlager?tmpl=component
DESCRIPTION: <a href="https://eja-aalen.de/medien/kalender/icalrepeat.detail/2021/04/11
 /783/-/vorbereitungstreffen-maedchenzeltlager?tmpl=component">Dieser Event 
 wurde importiert von: https://eja-aalen.de/medien/kalender/icalrepeat.detai
 l/2021/04/11/783/-/vorbereitungstreffen-maedchenzeltlager?tmpl=component</a
 >DTSTAMP:20260424T141000
DTSTART:20210411T160000
DTEND:20210411T183000
SEQUENCE:0
TRANSP:OPAQUE
END:VEVENT
END:VCALENDAR