BEGIN:VCALENDAR
VERSION:2.0
PRODID:-//jEvents 2.0 for Joomla//EN
CALSCALE:GREGORIAN
METHOD:PUBLISH
BEGIN:VEVENT
UID:42b52a3a60f286287153a0ff0d3e1c06
CATEGORIES:Freizeiten
CREATED:20210406T145122
SUMMARY:Vorbereitungstreffen Bubenzeltlager
URL;VALUE=URI:https://eja-aalen.de/medien/kalender/icalrepeat.detail/2021/04/10/784/-/vor
 bereitungstreffen-bubenzeltlager?tmpl=component
DESCRIPTION: Dieser Event wurde importiert von: https://eja-aalen.de/medien/kalender/ic
 alrepeat.detail/2021/04/10/784/-/vorbereitungstreffen-bubenzeltlager?tmpl=c
 omponent
X-ALT-DESC;FMTTYPE=text/html: <a href="https://eja-aalen.de/medien/kalender/icalrepeat.detail/2021/04/10
 /784/-/vorbereitungstreffen-bubenzeltlager?tmpl=component">Dieser Event wur
 de importiert von: https://eja-aalen.de/medien/kalender/icalrepeat.detail/2
 021/04/10/784/-/vorbereitungstreffen-bubenzeltlager?tmpl=component</a>DTSTAMP:20260424T105535
DTSTART:20210410T190000
DTEND:20210410T210000
SEQUENCE:0
TRANSP:OPAQUE
END:VEVENT
END:VCALENDAR