BEGIN:VCALENDAR
VERSION:2.0
PRODID:-//jEvents 2.0 for Joomla//EN
CALSCALE:GREGORIAN
METHOD:PUBLISH
BEGIN:VEVENT
UID:c7e099afb18e140e22ef6da4dfa486a0
CATEGORIES:Schulungen
CREATED:20210427T141831
SUMMARY:Erste-Hilfe-Kurs (im FTH Leinroden)
URL;VALUE=URI:https://eja-aalen.de/medien/kalender/icalrepeat.detail/2021/05/26/785/-/ers
 te-hilfe-kurs-im-fth-leinroden?tmpl=component
DESCRIPTION: <a href="https://eja-aalen.de/medien/kalender/icalrepeat.detail/2021/05/26
 /785/-/erste-hilfe-kurs-im-fth-leinroden?tmpl=component">Dieser Event wurde
  importiert von: https://eja-aalen.de/medien/kalender/icalrepeat.detail/202
 1/05/26/785/-/erste-hilfe-kurs-im-fth-leinroden?tmpl=component</a>DTSTAMP:20260423T001046
DTSTART:20210526T090000
DTEND:20210526T170000
SEQUENCE:0
TRANSP:OPAQUE
END:VEVENT
END:VCALENDAR