BEGIN:VCALENDAR
VERSION:2.0
PRODID:-//jEvents 2.0 for Joomla//EN
CALSCALE:GREGORIAN
METHOD:PUBLISH
BEGIN:VEVENT
UID:470f16ad351d1fa1f78a4c08295f6341
CATEGORIES:Schulungen
CREATED:20210427T141935
SUMMARY:Erste-Hilfe-Kurs (im FTH Leinroden)
URL;VALUE=URI:https://eja-aalen.de/medien/kalender/icalrepeat.detail/2021/06/26/787/-/ers
 te-hilfe-kurs-im-fth-leinroden?tmpl=component
DESCRIPTION: Dieser Event wurde importiert von: https://eja-aalen.de/medien/kalender/ic
 alrepeat.detail/2021/06/26/787/-/erste-hilfe-kurs-im-fth-leinroden?tmpl=com
 ponent
X-ALT-DESC;FMTTYPE=text/html: <a href="https://eja-aalen.de/medien/kalender/icalrepeat.detail/2021/06/26
 /787/-/erste-hilfe-kurs-im-fth-leinroden?tmpl=component">Dieser Event wurde
  importiert von: https://eja-aalen.de/medien/kalender/icalrepeat.detail/202
 1/06/26/787/-/erste-hilfe-kurs-im-fth-leinroden?tmpl=component</a>DTSTAMP:20260423T134825
DTSTART:20210626T090000
DTEND:20210626T170000
SEQUENCE:0
TRANSP:OPAQUE
END:VEVENT
END:VCALENDAR