BEGIN:VCALENDAR
VERSION:2.0
PRODID:-//jEvents 2.0 for Joomla//EN
CALSCALE:GREGORIAN
METHOD:PUBLISH
BEGIN:VEVENT
UID:7eb7b1047caa50866a6f53b1b6d1809f
CATEGORIES:Veranstaltungen
CREATED:20210611T134352
SUMMARY:Vorbereitungstreffen - Konficamps Ost
LOCATION:online
URL;VALUE=URI:https://eja-aalen.de/medien/kalender/icalrepeat.detail/2021/06/17/795/-/vor
 bereitungstreffen-konficamps-ost?tmpl=component
DESCRIPTION:<p>Planungstreffen f&uuml;r die zwei Konficamp-Ersatz-Termine der Region Os
 t 2021</p><p>Samstag 17.07.2021 (Bopfingen, Neresheim/Schweindorf)</p><p>un
 d</p><p>Sonntag 18.07.2021 (Ries, Lauchheim/Westhausen, Oberdorf)</p><p>&nb
 sp;</p><p>&nbsp;</p> <a href="https://eja-aalen.de/medien/kalender/icalrepe
 at.detail/2021/06/17/795/-/vorbereitungstreffen-konficamps-ost?tmpl=compone
 nt">Dieser Event wurde importiert von: https://eja-aalen.de/medien/kalender
 /icalrepeat.detail/2021/06/17/795/-/vorbereitungstreffen-konficamps-ost?tmp
 l=component</a>CONTACT:Diese E-Mail-Adresse ist vor Spambots geschützt! Zur Anzeige muss JavaScript eingeschaltet sein!
				document.getElementById('cloak49b41cb25fbcab3ec7d11b38132b0541').innerHTML = '';
				var prefix = '&#109;a' + 'i&#108;' + '&#116;o';
				var path = 'hr' + 'ef' + '=';
				var addy49b41cb25fbcab3ec7d11b38132b0541 = 'g&#101;mp&#101;rl&#101;&#105;n.v&#101;r&#101;n&#97;' + '&#64;';
				addy49b41cb25fbcab3ec7d11b38132b0541 = addy49b41cb25fbcab3ec7d11b38132b0541 + '&#101;j&#97;-&#97;&#97;l&#101;n' + '&#46;' + 'd&#101;';
				var addy_text49b41cb25fbcab3ec7d11b38132b0541 = 'g&#101;mp&#101;rl&#101;&#105;n.v&#101;r&#101;n&#97;' + '&#64;' + '&#101;j&#97;-&#97;&#97;l&#101;n' + '&#46;' + 'd&#101;';document.getElementById('cloak49b41cb25fbcab3ec7d11b38132b0541').innerHTML += '<a ' + path + '\'' + prefix + ':' + addy49b41cb25fbcab3ec7d11b38132b0541 + '\'>'+addy_text49b41cb25fbcab3ec7d11b38132b0541+'';
		
X-EXTRAINFO:Interessierte dürfen gerne mitmachen :-) 
DTSTAMP:20260423T015024
DTSTART:20210617T190000
DTEND:20210617T210000
SEQUENCE:0
TRANSP:OPAQUE
END:VEVENT
END:VCALENDAR