BEGIN:VCALENDAR
VERSION:2.0
PRODID:-//jEvents 2.0 for Joomla//EN
CALSCALE:GREGORIAN
METHOD:PUBLISH
BEGIN:VEVENT
UID:a5ecdfcded46cf3c3ddee8cda7158663
CATEGORIES:Abwesenheit Verena
CREATED:19700101T000000
SUMMARY:eja Teilbesetzung
URL;VALUE=URI:https://eja-aalen.de/medien/kalender/icalrepeat.detail/2021/09/06/798/-/eja
 -teilbesetzung?tmpl=component
DESCRIPTION: Dieser Event wurde importiert von: https://eja-aalen.de/medien/kalender/ic
 alrepeat.detail/2021/09/06/798/-/eja-teilbesetzung?tmpl=component
X-ALT-DESC;FMTTYPE=text/html: <a href="https://eja-aalen.de/medien/kalender/icalrepeat.detail/2021/09/06
 /798/-/eja-teilbesetzung?tmpl=component">Dieser Event wurde importiert von:
  https://eja-aalen.de/medien/kalender/icalrepeat.detail/2021/09/06/798/-/ej
 a-teilbesetzung?tmpl=component</a>DTSTAMP:20260424T191033
DTSTART;VALUE=DATE:20210906
DTEND;VALUE=DATE:20210911
SEQUENCE:0
RRULE:FREQ=WEEKLY;UNTIL=20210922T000000Z;INTERVAL=1;BYDAY=MO
EXDATE:20210920T000000
TRANSP:OPAQUE
END:VEVENT
END:VCALENDAR