BEGIN:VCALENDAR
VERSION:2.0
PRODID:-//jEvents 2.0 for Joomla//EN
CALSCALE:GREGORIAN
METHOD:PUBLISH
BEGIN:VEVENT
UID:466d8642e65c785db7f7f412b1c79263
CATEGORIES:Abwesenheit Verena
CREATED:20210611T135106
SUMMARY:Teilbesetzung eja
URL;VALUE=URI:https://eja-aalen.de/medien/kalender/icalrepeat.detail/2021/09/20/801/-/tei
 lbesetzung-eja?tmpl=component
DESCRIPTION: Dieser Event wurde importiert von: https://eja-aalen.de/medien/kalender/ic
 alrepeat.detail/2021/09/20/801/-/teilbesetzung-eja?tmpl=component
X-ALT-DESC;FMTTYPE=text/html: <a href="https://eja-aalen.de/medien/kalender/icalrepeat.detail/2021/09/20
 /801/-/teilbesetzung-eja?tmpl=component">Dieser Event wurde importiert von:
  https://eja-aalen.de/medien/kalender/icalrepeat.detail/2021/09/20/801/-/te
 ilbesetzung-eja?tmpl=component</a>DTSTAMP:20260424T054524
DTSTART;VALUE=DATE:20210920
DTEND;VALUE=DATE:20210923
SEQUENCE:0
TRANSP:OPAQUE
END:VEVENT
END:VCALENDAR