BEGIN:VCALENDAR
VERSION:2.0
PRODID:-//jEvents 2.0 for Joomla//EN
CALSCALE:GREGORIAN
METHOD:PUBLISH
BEGIN:VEVENT
UID:5872e60f81b5a3d92a344be9728f1e5d
CATEGORIES:Gremien
CREATED:20210621T135821
SUMMARY:Delegiertenversammlung eja
LOCATION:ev. Gemeindehaus in Bopfingen
URL;VALUE=URI:https://eja-aalen.de/medien/kalender/icalrepeat.detail/2022/03/12/802/-/del
 egiertenversammlung-eja?tmpl=component
DESCRIPTION:alljährliche Delegiertenversammlung des eja\nmit Danke-Vielmals-Essenseinla
 dung im Anschluss\n Dieser Event wurde importiert von: https://eja-aalen.de
 /medien/kalender/icalrepeat.detail/2022/03/12/802/-/delegiertenversammlung-
 eja?tmpl=component
X-ALT-DESC;FMTTYPE=text/html:<p>allj&auml;hrliche Delegiertenversammlung des eja</p><p>mit Danke-Vielmal
 s-Essenseinladung im Anschluss</p> <a href="https://eja-aalen.de/medien/kal
 ender/icalrepeat.detail/2022/03/12/802/-/delegiertenversammlung-eja?tmpl=co
 mponent">Dieser Event wurde importiert von: https://eja-aalen.de/medien/kal
 ender/icalrepeat.detail/2022/03/12/802/-/delegiertenversammlung-eja?tmpl=co
 mponent</a>CONTACT:Diese E-Mail-Adresse ist vor Spambots geschützt! Zur Anzeige muss JavaScript eingeschaltet sein!
				document.getElementById('cloak5175723070f5247d8302a574d19d7bb3').innerHTML = '';
				var prefix = '&#109;a' + 'i&#108;' + '&#116;o';
				var path = 'hr' + 'ef' + '=';
				var addy5175723070f5247d8302a574d19d7bb3 = 'v&#111;rs&#105;tz&#101;nd&#101;' + '&#64;';
				addy5175723070f5247d8302a574d19d7bb3 = addy5175723070f5247d8302a574d19d7bb3 + '&#101;j&#97;-&#97;&#97;l&#101;n' + '&#46;' + 'd&#101;';
				var addy_text5175723070f5247d8302a574d19d7bb3 = 'v&#111;rs&#105;tz&#101;nd&#101;' + '&#64;' + '&#101;j&#97;-&#97;&#97;l&#101;n' + '&#46;' + 'd&#101;';document.getElementById('cloak5175723070f5247d8302a574d19d7bb3').innerHTML += '<a ' + path + '\'' + prefix + ':' + addy5175723070f5247d8302a574d19d7bb3 + '\'>'+addy_text5175723070f5247d8302a574d19d7bb3+'';
		
X-EXTRAINFO:öffentliche Veranstaltung
DTSTAMP:20260421T221203
DTSTART:20220312T160000
SEQUENCE:0
TRANSP:OPAQUE
END:VEVENT
END:VCALENDAR