BEGIN:VCALENDAR
VERSION:2.0
PRODID:-//jEvents 2.0 for Joomla//EN
CALSCALE:GREGORIAN
METHOD:PUBLISH
BEGIN:VEVENT
UID:85feb79f2265d06f47a50f4139fc44a4
CATEGORIES:Abwesenheit Lorena
CREATED:20210707T092525
SUMMARY:Teilbesetzung
URL;VALUE=URI:https://eja-aalen.de/medien/kalender/icalrepeat.detail/2021/08/25/806/-/tei
 lbesetzung?tmpl=component
DESCRIPTION: Dieser Event wurde importiert von: https://eja-aalen.de/medien/kalender/ic
 alrepeat.detail/2021/08/25/806/-/teilbesetzung?tmpl=component
X-ALT-DESC;FMTTYPE=text/html: <a href="https://eja-aalen.de/medien/kalender/icalrepeat.detail/2021/08/25
 /806/-/teilbesetzung?tmpl=component">Dieser Event wurde importiert von: htt
 ps://eja-aalen.de/medien/kalender/icalrepeat.detail/2021/08/25/806/-/teilbe
 setzung?tmpl=component</a>DTSTAMP:20260424T155414
DTSTART;VALUE=DATE:20210825
DTEND;VALUE=DATE:20210828
SEQUENCE:0
TRANSP:OPAQUE
END:VEVENT
END:VCALENDAR