BEGIN:VCALENDAR
VERSION:2.0
PRODID:-//jEvents 2.0 for Joomla//EN
CALSCALE:GREGORIAN
METHOD:PUBLISH
BEGIN:VEVENT
UID:aa72824b706f0ecf07d01176f0bcd6cd
CATEGORIES:Region Süd Vakant
CREATED:20210827T085003
SUMMARY:EJA Teilbesetzung
URL;VALUE=URI:https://eja-aalen.de/medien/kalender/icalrepeat.detail/2021/08/30/808/-/eja
 -teilbesetzung?tmpl=component
DESCRIPTION: Dieser Event wurde importiert von: https://eja-aalen.de/medien/kalender/ic
 alrepeat.detail/2021/08/30/808/-/eja-teilbesetzung?tmpl=component
X-ALT-DESC;FMTTYPE=text/html: <a href="https://eja-aalen.de/medien/kalender/icalrepeat.detail/2021/08/30
 /808/-/eja-teilbesetzung?tmpl=component">Dieser Event wurde importiert von:
  https://eja-aalen.de/medien/kalender/icalrepeat.detail/2021/08/30/808/-/ej
 a-teilbesetzung?tmpl=component</a>DTSTAMP:20260421T000811
DTSTART;VALUE=DATE:20210830
DTEND;VALUE=DATE:20210923
SEQUENCE:0
TRANSP:OPAQUE
END:VEVENT
END:VCALENDAR