BEGIN:VCALENDAR
VERSION:2.0
PRODID:-//jEvents 2.0 for Joomla//EN
CALSCALE:GREGORIAN
METHOD:PUBLISH
BEGIN:VEVENT
UID:8f66983c0ee5692497e51bd108d7568c
CATEGORIES:Gremien
CREATED:20210927T115728
SUMMARY:BAK Sitzung
LOCATION:n.n.
URL;VALUE=URI:https://eja-aalen.de/medien/kalender/icalrepeat.detail/2021/10/20/812/-/bak
 -sitzung?tmpl=component
DESCRIPTION:öffentliche Sitzung des Bezirksarbeitskreises (BAK)\nbei Interesse gerne an
  die Vorsitzenden wenden!\nStart idR ab 18:00 Uhr - Themen (siehe Tagesordn
 ung) des EJA werden hier besprochen, ggf. Beschlüsse gefasst\n Dieser Event
  wurde importiert von: https://eja-aalen.de/medien/kalender/icalrepeat.deta
 il/2021/10/20/812/-/bak-sitzung?tmpl=component
X-ALT-DESC;FMTTYPE=text/html:<p>&ouml;ffentliche Sitzung des Bezirksarbeitskreises (BAK)</p><p>bei Inter
 esse gerne an die Vorsitzenden wenden!</p><p>Start idR ab 18:00 Uhr - Theme
 n (siehe Tagesordnung) des EJA werden hier besprochen, ggf. Beschl&uuml;sse
  gefasst</p> <a href="https://eja-aalen.de/medien/kalender/icalrepeat.detai
 l/2021/10/20/812/-/bak-sitzung?tmpl=component">Dieser Event wurde importier
 t von: https://eja-aalen.de/medien/kalender/icalrepeat.detail/2021/10/20/81
 2/-/bak-sitzung?tmpl=component</a>CONTACT:Diese E-Mail-Adresse ist vor Spambots geschützt! Zur Anzeige muss JavaScript eingeschaltet sein!
				document.getElementById('cloakca21cb02fe30584b08c3d157e56a97b7').innerHTML = '';
				var prefix = '&#109;a' + 'i&#108;' + '&#116;o';
				var path = 'hr' + 'ef' + '=';
				var addyca21cb02fe30584b08c3d157e56a97b7 = 'v&#111;rs&#105;tz&#101;nd&#101;' + '&#64;';
				addyca21cb02fe30584b08c3d157e56a97b7 = addyca21cb02fe30584b08c3d157e56a97b7 + '&#101;j&#97;-&#97;&#97;l&#101;n' + '&#46;' + 'd&#101;';
				var addy_textca21cb02fe30584b08c3d157e56a97b7 = 'v&#111;rs&#105;tz&#101;nd&#101;' + '&#64;' + '&#101;j&#97;-&#97;&#97;l&#101;n' + '&#46;' + 'd&#101;';document.getElementById('cloakca21cb02fe30584b08c3d157e56a97b7').innerHTML += '<a ' + path + '\'' + prefix + ':' + addyca21cb02fe30584b08c3d157e56a97b7 + '\'>'+addy_textca21cb02fe30584b08c3d157e56a97b7+'';
		
X-EXTRAINFO:nur mit Anmeldung Besuch möglich
DTSTAMP:20260423T134745
DTSTART:20211020T180000
SEQUENCE:0
TRANSP:OPAQUE
END:VEVENT
END:VCALENDAR