BEGIN:VCALENDAR
VERSION:2.0
PRODID:-//jEvents 2.0 for Joomla//EN
CALSCALE:GREGORIAN
METHOD:PUBLISH
BEGIN:VEVENT
UID:f5494873bd6aea3fe78acf9a1a8f55f7
CATEGORIES:Gremien
CREATED:20210927T121030
SUMMARY:Bezirkssynode 
LOCATION:Ellwangen
URL;VALUE=URI:https://eja-aalen.de/medien/kalender/icalrepeat.detail/2021/11/12/816/-/bez
 irkssynode?tmpl=component
DESCRIPTION:<p>Bezirkssynode des Kirchenbezirks AA</p> <a href="https://eja-aalen.de/me
 dien/kalender/icalrepeat.detail/2021/11/12/816/-/bezirkssynode?tmpl=compone
 nt">Dieser Event wurde importiert von: https://eja-aalen.de/medien/kalender
 /icalrepeat.detail/2021/11/12/816/-/bezirkssynode?tmpl=component</a>DTSTAMP:20260424T013847
DTSTART:20211112T180000
SEQUENCE:0
TRANSP:OPAQUE
END:VEVENT
END:VCALENDAR