BEGIN:VCALENDAR
VERSION:2.0
PRODID:-//jEvents 2.0 for Joomla//EN
CALSCALE:GREGORIAN
METHOD:PUBLISH
BEGIN:VEVENT
UID:59c77c2655c71382752af0cf4d9dde5d
CATEGORIES:Veranstaltungen
CREATED:20210929T170509
SUMMARY:ConnectBar (für junge Erwachsene)
URL;VALUE=URI:https://eja-aalen.de/medien/kalender/icalrepeat.detail/2021/11/06/821/-/con
 nectbar-fuer-junge-erwachsene?tmpl=component
DESCRIPTION: Dieser Event wurde importiert von: https://eja-aalen.de/medien/kalender/ic
 alrepeat.detail/2021/11/06/821/-/connectbar-fuer-junge-erwachsene?tmpl=comp
 onent
X-ALT-DESC;FMTTYPE=text/html: <a href="https://eja-aalen.de/medien/kalender/icalrepeat.detail/2021/11/06
 /821/-/connectbar-fuer-junge-erwachsene?tmpl=component">Dieser Event wurde 
 importiert von: https://eja-aalen.de/medien/kalender/icalrepeat.detail/2021
 /11/06/821/-/connectbar-fuer-junge-erwachsene?tmpl=component</a>DTSTAMP:20260425T185646
DTSTART:20211106T193000
SEQUENCE:0
TRANSP:OPAQUE
END:VEVENT
END:VCALENDAR