BEGIN:VCALENDAR
VERSION:2.0
PRODID:-//jEvents 2.0 for Joomla//EN
CALSCALE:GREGORIAN
METHOD:PUBLISH
BEGIN:VEVENT
UID:0f0c24e0b97b995dfe7ffe890b6d4c78
CATEGORIES:Veranstaltungen
CREATED:20210929T170559
SUMMARY:ConnectBar (für junge Erwachsene - EV. GH AA)
URL;VALUE=URI:https://eja-aalen.de/medien/kalender/icalrepeat.detail/2021/11/20/822/-/con
 nectbar-fuer-junge-erwachsene-ev-gh-aa?tmpl=component
DESCRIPTION: <a href="https://eja-aalen.de/medien/kalender/icalrepeat.detail/2021/11/20
 /822/-/connectbar-fuer-junge-erwachsene-ev-gh-aa?tmpl=component">Dieser Eve
 nt wurde importiert von: https://eja-aalen.de/medien/kalender/icalrepeat.de
 tail/2021/11/20/822/-/connectbar-fuer-junge-erwachsene-ev-gh-aa?tmpl=compon
 ent</a>DTSTAMP:20260425T153218
DTSTART:20211120T193000
SEQUENCE:0
TRANSP:OPAQUE
END:VEVENT
END:VCALENDAR