BEGIN:VCALENDAR
VERSION:2.0
PRODID:-//jEvents 2.0 for Joomla//EN
CALSCALE:GREGORIAN
METHOD:PUBLISH
BEGIN:VEVENT
UID:954169e60022fec846a4cfba0759b421
CATEGORIES:Veranstaltungen
CREATED:20210929T170647
SUMMARY:ConnectBar (für junge Erwachsene )
URL;VALUE=URI:https://eja-aalen.de/medien/kalender/icalrepeat.detail/2021/12/04/823/-/con
 nectbar-fuer-junge-erwachsene?tmpl=component
DESCRIPTION: Dieser Event wurde importiert von: https://eja-aalen.de/medien/kalender/ic
 alrepeat.detail/2021/12/04/823/-/connectbar-fuer-junge-erwachsene?tmpl=comp
 onent
X-ALT-DESC;FMTTYPE=text/html: <a href="https://eja-aalen.de/medien/kalender/icalrepeat.detail/2021/12/04
 /823/-/connectbar-fuer-junge-erwachsene?tmpl=component">Dieser Event wurde 
 importiert von: https://eja-aalen.de/medien/kalender/icalrepeat.detail/2021
 /12/04/823/-/connectbar-fuer-junge-erwachsene?tmpl=component</a>DTSTAMP:20260425T034300
DTSTART:20211204T193000
SEQUENCE:0
TRANSP:OPAQUE
END:VEVENT
END:VCALENDAR