BEGIN:VCALENDAR
VERSION:2.0
PRODID:-//jEvents 2.0 for Joomla//EN
CALSCALE:GREGORIAN
METHOD:PUBLISH
BEGIN:VEVENT
UID:1cf6dde9e0a3ae3de217f67db01241ff
CATEGORIES:Veranstaltungen
CREATED:20210929T170726
SUMMARY:ConnectBar (für junge Erwachsene - EV. GH AA)
URL;VALUE=URI:https://eja-aalen.de/medien/kalender/icalrepeat.detail/2021/12/18/824/-/con
 nectbar-fuer-junge-erwachsene-ev-gh-aa?tmpl=component
DESCRIPTION: <a href="https://eja-aalen.de/medien/kalender/icalrepeat.detail/2021/12/18
 /824/-/connectbar-fuer-junge-erwachsene-ev-gh-aa?tmpl=component">Dieser Eve
 nt wurde importiert von: https://eja-aalen.de/medien/kalender/icalrepeat.de
 tail/2021/12/18/824/-/connectbar-fuer-junge-erwachsene-ev-gh-aa?tmpl=compon
 ent</a>DTSTAMP:20260425T105117
DTSTART:20211218T193000
SEQUENCE:0
TRANSP:OPAQUE
END:VEVENT
END:VCALENDAR