BEGIN:VCALENDAR
VERSION:2.0
PRODID:-//jEvents 2.0 for Joomla//EN
CALSCALE:GREGORIAN
METHOD:PUBLISH
BEGIN:VEVENT
UID:b406ce02540951cf274ee2d333852743
CATEGORIES:Freizeiten
CREATED:20211012T085837
SUMMARY:Bubenzeltlager Stockensägmühle
URL;VALUE=URI:https://eja-aalen.de/medien/kalender/icalrepeat.detail/2022/07/29/826/-/bub
 enzeltlager-stockensaegmuehle?tmpl=component
DESCRIPTION: Dieser Event wurde importiert von: https://eja-aalen.de/medien/kalender/ic
 alrepeat.detail/2022/07/29/826/-/bubenzeltlager-stockensaegmuehle?tmpl=comp
 onent (https://eja-aalen.de/medien/kalender/icalrepeat.detail/2022/07/29/82
 6/-/bubenzeltlager-stockensaegmuehle?tmpl=component)
X-ALT-DESC;FMTTYPE=text/html: <a href="https://eja-aalen.de/medien/kalender/icalrepeat.detail/2022/07/29
 /826/-/bubenzeltlager-stockensaegmuehle?tmpl=component">Dieser Event wurde 
 importiert von: https://eja-aalen.de/medien/kalender/icalrepeat.detail/2022
 /07/29/826/-/bubenzeltlager-stockensaegmuehle?tmpl=component</a>DTSTAMP:20260423T083122
DTSTART;VALUE=DATE:20220729
DTEND;VALUE=DATE:20220808
SEQUENCE:0
TRANSP:OPAQUE
END:VEVENT
END:VCALENDAR