BEGIN:VCALENDAR
VERSION:2.0
PRODID:-//jEvents 2.0 for Joomla//EN
CALSCALE:GREGORIAN
METHOD:PUBLISH
BEGIN:VEVENT
UID:9579ad94a0c350efc0b58d24e433ee3d
CATEGORIES:Freizeiten
CREATED:20211012T090403
SUMMARY:Vorbereitungswochenende Zeltlager
URL;VALUE=URI:https://eja-aalen.de/medien/kalender/icalrepeat.detail/2022/05/13/830/-/vor
 bereitungswochenende-zeltlager?tmpl=component
DESCRIPTION: <a href="https://eja-aalen.de/medien/kalender/icalrepeat.detail/2022/05/13
 /830/-/vorbereitungswochenende-zeltlager?tmpl=component">Dieser Event wurde
  importiert von: https://eja-aalen.de/medien/kalender/icalrepeat.detail/202
 2/05/13/830/-/vorbereitungswochenende-zeltlager?tmpl=component</a>DTSTAMP:20260423T200206
DTSTART;VALUE=DATE:20220513
DTEND;VALUE=DATE:20220516
SEQUENCE:0
TRANSP:OPAQUE
END:VEVENT
END:VCALENDAR