BEGIN:VCALENDAR
VERSION:2.0
PRODID:-//jEvents 2.0 for Joomla//EN
CALSCALE:GREGORIAN
METHOD:PUBLISH
BEGIN:VEVENT
UID:ebd7a2ef5f07152bacfa8433eb94806b
CATEGORIES:Veranstaltungen
CREATED:20211015T111703
SUMMARY:KTC Lauchheim/Westhausen
LOCATION:Evangelisches Gemeindehaus Westhausen
URL;VALUE=URI:https://eja-aalen.de/medien/kalender/icalrepeat.detail/2021/10/15/832/-/ktc
 -lauchheim-westhausen?tmpl=component
DESCRIPTION:KTC - Kirchenteenieclub der KG Lauchheim/Westhausen\nbuntes, mit Abstand to
 lles Programm für Kinder/Jugendliche (5. bis 7. Klasse) der Region\nMovieni
 ght\nBesuch nur mit Anmeldung möglich: Diese E-Mail-Adresse ist vor Spambot
 s geschützt! Zur Anzeige muss JavaScript eingeschaltet sein!
				document.g
 etElementById('cloaka5f84643fec9ea9169fda7a75a13c055').innerHTML = '';
				
 var prefix = '&#109;a' + 'i&#108;' + '&#116;o';
				var path = 'hr' + 'ef' 
 + '=';
				var addya5f84643fec9ea9169fda7a75a13c055 = 't&#101;&#101;n&#101;
 cl&#117;b' + '&#64;';
				addya5f84643fec9ea9169fda7a75a13c055 = addya5f846
 43fec9ea9169fda7a75a13c055 + 'w&#101;b' + '&#46;' + 'd&#101;';
				var addy
 _texta5f84643fec9ea9169fda7a75a13c055 = 't&#101;&#101;n&#105;&#101;cl&#117;
 b' + '&#64;' + 'w&#101;b' + '&#46;' + 'd&#101;';document.getElementById('cl
 oaka5f84643fec9ea9169fda7a75a13c055').innerHTML += '<a ' + path + '\'' + pr
 efix + ':' + addya5f84643fec9ea9169fda7a75a13c055 + '\'>'+addy_texta5f84643
 fec9ea9169fda7a75a13c055+'';
		\n Dieser Event wurde importiert von: https:
 //eja-aalen.de/medien/kalender/icalrepeat.detail/2021/10/15/832/-/ktc-lauch
 heim-westhausen?tmpl=component
X-ALT-DESC;FMTTYPE=text/html:<p>KTC - Kirchenteenieclub der KG Lauchheim/Westhausen</p><p>buntes, mit Ab
 stand tolles Programm f&uuml;r Kinder/Jugendliche (5. bis 7. Klasse) der Re
 gion</p><p><strong>Movienight</strong></p><p>Besuch nur mit Anmeldung m&oum
 l;glich: <span id="cloaka5f84643fec9ea9169fda7a75a13c055">Diese E-Mail-Adre
 sse ist vor Spambots geschützt! Zur Anzeige muss JavaScript eingeschaltet s
 ein!</span><script type='text/javascript'>
				document.getElementById('clo
 aka5f84643fec9ea9169fda7a75a13c055').innerHTML = '';
				var prefix = '&#10
 9;a' + 'i&#108;' + '&#116;o';
				var path = 'hr' + 'ef' + '=';
				var add
 ya5f84643fec9ea9169fda7a75a13c055 = 't&#101;&#101;n&#101;cl&#117;b' + '&#64
 ;';
				addya5f84643fec9ea9169fda7a75a13c055 = addya5f84643fec9ea9169fda7a7
 5a13c055 + 'w&#101;b' + '&#46;' + 'd&#101;';
				var addy_texta5f84643fec9e
 a9169fda7a75a13c055 = 't&#101;&#101;n&#105;&#101;cl&#117;b' + '&#64;' + 'w&
 #101;b' + '&#46;' + 'd&#101;';document.getElementById('cloaka5f84643fec9ea9
 169fda7a75a13c055').innerHTML += '<a ' + path + '\'' + prefix + ':' + addya
 5f84643fec9ea9169fda7a75a13c055 + '\'>'+addy_texta5f84643fec9ea9169fda7a75a
 13c055+'<\/a>';
		</script></p> <a href="https://eja-aalen.de/medien/kalend
 er/icalrepeat.detail/2021/10/15/832/-/ktc-lauchheim-westhausen?tmpl=compone
 nt">Dieser Event wurde importiert von: https://eja-aalen.de/medien/kalender
 /icalrepeat.detail/2021/10/15/832/-/ktc-lauchheim-westhausen?tmpl=component
 </a>CONTACT:Diese E-Mail-Adresse ist vor Spambots geschützt! Zur Anzeige muss JavaScript eingeschaltet sein!
				document.getElementById('cloak9f2ce277f75bfe03cf9125eb53a00415').innerHTML = '';
				var prefix = '&#109;a' + 'i&#108;' + '&#116;o';
				var path = 'hr' + 'ef' + '=';
				var addy9f2ce277f75bfe03cf9125eb53a00415 = 'v&#101;r&#101;n&#97;.g&#101;mp&#101;rl&#101;&#105;n' + '&#64;';
				addy9f2ce277f75bfe03cf9125eb53a00415 = addy9f2ce277f75bfe03cf9125eb53a00415 + '&#101;j&#97;-&#97;&#97;l&#101;n' + '&#46;' + 'd&#101;';
				var addy_text9f2ce277f75bfe03cf9125eb53a00415 = 'v&#101;r&#101;n&#97;.g&#101;mp&#101;rl&#101;&#105;n' + '&#64;' + '&#101;j&#97;-&#97;&#97;l&#101;n' + '&#46;' + 'd&#101;';document.getElementById('cloak9f2ce277f75bfe03cf9125eb53a00415').innerHTML += '<a ' + path + '\'' + prefix + ':' + addy9f2ce277f75bfe03cf9125eb53a00415 + '\'>'+addy_text9f2ce277f75bfe03cf9125eb53a00415+'';
		
DTSTAMP:20260424T105553
DTSTART:20211015T190000
DTEND:20211015T210000
SEQUENCE:0
TRANSP:OPAQUE
END:VEVENT
END:VCALENDAR