BEGIN:VCALENDAR
VERSION:2.0
PRODID:-//jEvents 2.0 for Joomla//EN
CALSCALE:GREGORIAN
METHOD:PUBLISH
BEGIN:VEVENT
UID:45ab8994ecffb31100a661c978eeb90b
CATEGORIES:Schulungen
CREATED:20211209T143642
SUMMARY:Grundkurs-Mitarbeiterschulung (Reiberhof)
URL;VALUE=URI:https://eja-aalen.de/medien/kalender/icalrepeat.detail/2022/10/28/833/-/gru
 ndkurs-mitarbeiterschulung-reiberhof?tmpl=component
DESCRIPTION: <a href="https://eja-aalen.de/medien/kalender/icalrepeat.detail/2022/10/28
 /833/-/grundkurs-mitarbeiterschulung-reiberhof?tmpl=component">Dieser Event
  wurde importiert von: https://eja-aalen.de/medien/kalender/icalrepeat.deta
 il/2022/10/28/833/-/grundkurs-mitarbeiterschulung-reiberhof?tmpl=component<
 /a>DTSTAMP:20260424T210824
DTSTART;VALUE=DATE:20221028
DTEND;VALUE=DATE:20221103
SEQUENCE:0
TRANSP:OPAQUE
END:VEVENT
END:VCALENDAR