BEGIN:VCALENDAR
VERSION:2.0
PRODID:-//jEvents 2.0 for Joomla//EN
CALSCALE:GREGORIAN
METHOD:PUBLISH
BEGIN:VEVENT
UID:2a1be541c9e5462cc4bcb3f42ba6092b
CATEGORIES:Schulungen
CREATED:20211209T143730
SUMMARY:Grundkurs-Mitarbeiterschulung (Reiberhof)
URL;VALUE=URI:https://eja-aalen.de/medien/kalender/icalrepeat.detail/2023/10/27/834/-/gru
 ndkurs-mitarbeiterschulung-reiberhof?tmpl=component
DESCRIPTION: Dieser Event wurde importiert von: https://eja-aalen.de/medien/kalender/ic
 alrepeat.detail/2023/10/27/834/-/grundkurs-mitarbeiterschulung-reiberhof?tm
 pl=component
X-ALT-DESC;FMTTYPE=text/html: <a href="https://eja-aalen.de/medien/kalender/icalrepeat.detail/2023/10/27
 /834/-/grundkurs-mitarbeiterschulung-reiberhof?tmpl=component">Dieser Event
  wurde importiert von: https://eja-aalen.de/medien/kalender/icalrepeat.deta
 il/2023/10/27/834/-/grundkurs-mitarbeiterschulung-reiberhof?tmpl=component<
 /a>DTSTAMP:20260423T083123
DTSTART;VALUE=DATE:20231027
DTEND;VALUE=DATE:20231102
SEQUENCE:0
TRANSP:OPAQUE
END:VEVENT
END:VCALENDAR