BEGIN:VCALENDAR
VERSION:2.0
PRODID:-//jEvents 2.0 for Joomla//EN
CALSCALE:GREGORIAN
METHOD:PUBLISH
BEGIN:VEVENT
UID:f14ebb5a3b5b5dad4689697dfb68553b
CATEGORIES:Veranstaltungen
CREATED:20211209T155413
SUMMARY:ConnectBar (für junge Erwachsene)
URL;VALUE=URI:https://eja-aalen.de/medien/kalender/icalrepeat.detail/2023/02/05/837/-/con
 nectbar-fuer-junge-erwachsene?tmpl=component
DESCRIPTION: Dieser Event wurde importiert von: https://eja-aalen.de/medien/kalender/ic
 alrepeat.detail/2023/02/05/837/-/connectbar-fuer-junge-erwachsene?tmpl=comp
 onent (https://eja-aalen.de/medien/kalender/icalrepeat.detail/2023/02/05/83
 7/-/connectbar-fuer-junge-erwachsene?tmpl=component)
X-ALT-DESC;FMTTYPE=text/html: <a href="https://eja-aalen.de/medien/kalender/icalrepeat.detail/2023/02/05
 /837/-/connectbar-fuer-junge-erwachsene?tmpl=component">Dieser Event wurde 
 importiert von: https://eja-aalen.de/medien/kalender/icalrepeat.detail/2023
 /02/05/837/-/connectbar-fuer-junge-erwachsene?tmpl=component</a>DTSTAMP:20260421T115713
DTSTART:20230205T193000
SEQUENCE:0
TRANSP:OPAQUE
END:VEVENT
END:VCALENDAR