BEGIN:VCALENDAR
VERSION:2.0
PRODID:-//jEvents 2.0 for Joomla//EN
CALSCALE:GREGORIAN
METHOD:PUBLISH
BEGIN:VEVENT
UID:cc20bf85b3e1e64ad334e4e1cbd4a908
CATEGORIES:Veranstaltungen
CREATED:20211209T155719
SUMMARY:ConnectBar (für junge Erwachsene)
URL;VALUE=URI:https://eja-aalen.de/medien/kalender/icalrepeat.detail/2023/04/02/841/-/con
 nectbar-fuer-junge-erwachsene?tmpl=component
DESCRIPTION: Dieser Event wurde importiert von: https://eja-aalen.de/medien/kalender/ic
 alrepeat.detail/2023/04/02/841/-/connectbar-fuer-junge-erwachsene?tmpl=comp
 onent
X-ALT-DESC;FMTTYPE=text/html: <a href="https://eja-aalen.de/medien/kalender/icalrepeat.detail/2023/04/02
 /841/-/connectbar-fuer-junge-erwachsene?tmpl=component">Dieser Event wurde 
 importiert von: https://eja-aalen.de/medien/kalender/icalrepeat.detail/2023
 /04/02/841/-/connectbar-fuer-junge-erwachsene?tmpl=component</a>DTSTAMP:20260421T033637
DTSTART:20230402T193000
SEQUENCE:0
TRANSP:OPAQUE
END:VEVENT
END:VCALENDAR