BEGIN:VCALENDAR
VERSION:2.0
PRODID:-//jEvents 2.0 for Joomla//EN
CALSCALE:GREGORIAN
METHOD:PUBLISH
BEGIN:VEVENT
UID:76c0d4e6236f4370e91a8f6fd85a4ba0
CATEGORIES:Veranstaltungen
CREATED:20211209T161145
SUMMARY:FTH-Vorbereitungs-Wochenende
URL;VALUE=URI:https://eja-aalen.de/medien/kalender/icalrepeat.detail/2022/05/20/844/-/fth
 -vorbereitungs-wochenende?tmpl=component
DESCRIPTION: Dieser Event wurde importiert von: https://eja-aalen.de/medien/kalender/ic
 alrepeat.detail/2022/05/20/844/-/fth-vorbereitungs-wochenende?tmpl=componen
 t (https://eja-aalen.de/medien/kalender/icalrepeat.detail/2022/05/20/844/-/
 fth-vorbereitungs-wochenende?tmpl=component)
X-ALT-DESC;FMTTYPE=text/html: <a href="https://eja-aalen.de/medien/kalender/icalrepeat.detail/2022/05/20
 /844/-/fth-vorbereitungs-wochenende?tmpl=component">Dieser Event wurde impo
 rtiert von: https://eja-aalen.de/medien/kalender/icalrepeat.detail/2022/05/
 20/844/-/fth-vorbereitungs-wochenende?tmpl=component</a>DTSTAMP:20260422T072431
DTSTART:20220520T180000
DTEND:20220522T100000
SEQUENCE:0
TRANSP:OPAQUE
END:VEVENT
END:VCALENDAR