BEGIN:VCALENDAR
VERSION:2.0
PRODID:-//jEvents 2.0 for Joomla//EN
CALSCALE:GREGORIAN
METHOD:PUBLISH
BEGIN:VEVENT
UID:60b677ff57d45c0d696e9521bff87d02
CATEGORIES:Freizeiten
CREATED:20211209T161752
SUMMARY:FTH Leinroden 2. Abschnitt  
URL;VALUE=URI:https://eja-aalen.de/medien/kalender/icalrepeat.detail/2022/08/15/849/-/fth
 -leinroden-2-abschnitt?tmpl=component
DESCRIPTION: Dieser Event wurde importiert von: https://eja-aalen.de/medien/kalender/ic
 alrepeat.detail/2022/08/15/849/-/fth-leinroden-2-abschnitt?tmpl=component
X-ALT-DESC;FMTTYPE=text/html: <a href="https://eja-aalen.de/medien/kalender/icalrepeat.detail/2022/08/15
 /849/-/fth-leinroden-2-abschnitt?tmpl=component">Dieser Event wurde importi
 ert von: https://eja-aalen.de/medien/kalender/icalrepeat.detail/2022/08/15/
 849/-/fth-leinroden-2-abschnitt?tmpl=component</a>DTSTAMP:20260422T204516
DTSTART;VALUE=DATE:20220815
DTEND;VALUE=DATE:20220828
SEQUENCE:0
TRANSP:OPAQUE
END:VEVENT
END:VCALENDAR