BEGIN:VCALENDAR
VERSION:2.0
PRODID:-//jEvents 2.0 for Joomla//EN
CALSCALE:GREGORIAN
METHOD:PUBLISH
BEGIN:VEVENT
UID:9ede6e9872fc52255799c490e882103c
CATEGORIES:Veranstaltungen
CREATED:20211209T161945
SUMMARY:Orangen-Aktion (Spendenaktion)
URL;VALUE=URI:https://eja-aalen.de/medien/kalender/icalrepeat.detail/2022/11/25/851/-/ora
 ngen-aktion-spendenaktion?tmpl=component
DESCRIPTION: Dieser Event wurde importiert von: https://eja-aalen.de/medien/kalender/ic
 alrepeat.detail/2022/11/25/851/-/orangen-aktion-spendenaktion?tmpl=componen
 t
X-ALT-DESC;FMTTYPE=text/html: <a href="https://eja-aalen.de/medien/kalender/icalrepeat.detail/2022/11/25
 /851/-/orangen-aktion-spendenaktion?tmpl=component">Dieser Event wurde impo
 rtiert von: https://eja-aalen.de/medien/kalender/icalrepeat.detail/2022/11/
 25/851/-/orangen-aktion-spendenaktion?tmpl=component</a>DTSTAMP:20260425T183703
DTSTART;VALUE=DATE:20221125
DTEND;VALUE=DATE:20221128
SEQUENCE:0
TRANSP:OPAQUE
END:VEVENT
END:VCALENDAR