BEGIN:VCALENDAR
VERSION:2.0
PRODID:-//jEvents 2.0 for Joomla//EN
CALSCALE:GREGORIAN
METHOD:PUBLISH
BEGIN:VEVENT
UID:7575a9a56c21ccc01c38f5db380d99e4
CATEGORIES:Region Süd Vakant
CREATED:20211209T162039
SUMMARY:Teilbesetzung EJA
URL;VALUE=URI:https://eja-aalen.de/medien/kalender/icalrepeat.detail/2021/12/22/852/-/tei
 lbesetzung-eja?tmpl=component
DESCRIPTION: <a href="https://eja-aalen.de/medien/kalender/icalrepeat.detail/2021/12/22
 /852/-/teilbesetzung-eja?tmpl=component">Dieser Event wurde importiert von:
  https://eja-aalen.de/medien/kalender/icalrepeat.detail/2021/12/22/852/-/te
 ilbesetzung-eja?tmpl=component</a>DTSTAMP:20260423T184511
DTSTART;VALUE=DATE:20211222
DTEND;VALUE=DATE:20220103
SEQUENCE:0
TRANSP:OPAQUE
END:VEVENT
END:VCALENDAR