BEGIN:VCALENDAR
VERSION:2.0
PRODID:-//jEvents 2.0 for Joomla//EN
CALSCALE:GREGORIAN
METHOD:PUBLISH
BEGIN:VEVENT
UID:1c1c584914d3ef860f27f742fe607f03
CATEGORIES:Veranstaltungen
CREATED:19700101T000000
SUMMARY:ConnectBar (für junge Erwachsene)
URL;VALUE=URI:https://eja-aalen.de/medien/kalender/icalrepeat.detail/2022/01/01/890/-/con
 nectbar-fuer-junge-erwachsene?tmpl=component
DESCRIPTION: Dieser Event wurde importiert von: https://eja-aalen.de/medien/kalender/ic
 alrepeat.detail/2022/01/01/890/-/connectbar-fuer-junge-erwachsene?tmpl=comp
 onent
X-ALT-DESC;FMTTYPE=text/html: <a href="https://eja-aalen.de/medien/kalender/icalrepeat.detail/2022/01/01
 /890/-/connectbar-fuer-junge-erwachsene?tmpl=component">Dieser Event wurde 
 importiert von: https://eja-aalen.de/medien/kalender/icalrepeat.detail/2022
 /01/01/890/-/connectbar-fuer-junge-erwachsene?tmpl=component</a>DTSTAMP:20260423T175426
DTSTART:20220101T193000
SEQUENCE:0
RRULE:FREQ=MONTHLY;UNTIL=20221203T000000Z;INTERVAL=1;BYDAY=+1SA
TRANSP:OPAQUE
END:VEVENT
END:VCALENDAR