BEGIN:VCALENDAR
VERSION:2.0
PRODID:-//jEvents 2.0 for Joomla//EN
CALSCALE:GREGORIAN
METHOD:PUBLISH
BEGIN:VEVENT
UID:0aa644420e11d77af5a29f071db30446
CATEGORIES:Veranstaltungen
CREATED:19700101T000000
SUMMARY:ConnectBar (für junge Erwachsene - EV. GH AA)
URL;VALUE=URI:https://eja-aalen.de/medien/kalender/icalrepeat.detail/2022/01/15/902/-/con
 nectbar-fuer-junge-erwachsene-ev-gh-aa?tmpl=component
DESCRIPTION: Dieser Event wurde importiert von: https://eja-aalen.de/medien/kalender/ic
 alrepeat.detail/2022/01/15/902/-/connectbar-fuer-junge-erwachsene-ev-gh-aa?
 tmpl=component
X-ALT-DESC;FMTTYPE=text/html: <a href="https://eja-aalen.de/medien/kalender/icalrepeat.detail/2022/01/15
 /902/-/connectbar-fuer-junge-erwachsene-ev-gh-aa?tmpl=component">Dieser Eve
 nt wurde importiert von: https://eja-aalen.de/medien/kalender/icalrepeat.de
 tail/2022/01/15/902/-/connectbar-fuer-junge-erwachsene-ev-gh-aa?tmpl=compon
 ent</a>DTSTAMP:20260420T043556
DTSTART:20220115T193000
SEQUENCE:0
RRULE:FREQ=MONTHLY;UNTIL=20221217T000000Z;INTERVAL=1;BYDAY=+3SA
TRANSP:OPAQUE
END:VEVENT
END:VCALENDAR