BEGIN:VCALENDAR
VERSION:2.0
PRODID:-//jEvents 2.0 for Joomla//EN
CALSCALE:GREGORIAN
METHOD:PUBLISH
BEGIN:VEVENT
UID:60f04a62649c3fe5eb111b2ad7d2f067
CATEGORIES:Freizeiten
CREATED:20211214T112002
SUMMARY:ABGESAGT! Auf gehts- Wochenendtrip ins Allgäu
URL;VALUE=URI:https://eja-aalen.de/medien/kalender/icalrepeat.detail/2022/04/22/939/-/abg
 esagt-auf-gehts-wochenendtrip-ins-allgaeu?tmpl=component
DESCRIPTION:<p>f&uuml;r 15-25 j&auml;hrige</p> <a href="https://eja-aalen.de/medien/kal
 ender/icalrepeat.detail/2022/04/22/939/-/abgesagt-auf-gehts-wochenendtrip-i
 ns-allgaeu?tmpl=component">Dieser Event wurde importiert von: https://eja-a
 alen.de/medien/kalender/icalrepeat.detail/2022/04/22/939/-/abgesagt-auf-geh
 ts-wochenendtrip-ins-allgaeu?tmpl=component</a>DTSTAMP:20260425T143453
DTSTART:20220422T160000
DTEND:20220424T170000
SEQUENCE:0
TRANSP:OPAQUE
END:VEVENT
END:VCALENDAR