BEGIN:VCALENDAR
VERSION:2.0
PRODID:-//jEvents 2.0 for Joomla//EN
CALSCALE:GREGORIAN
METHOD:PUBLISH
BEGIN:VEVENT
UID:de9c240e62b015a0d4d77990b9e1e535
CATEGORIES:Schulungen
CREATED:20220103T101011
SUMMARY:Schulung Mobile Seilaufbauten
URL;VALUE=URI:https://eja-aalen.de/medien/kalender/icalrepeat.detail/2022/04/02/941/-/sch
 ulung-mobile-seilaufbauten?tmpl=component
DESCRIPTION: Dieser Event wurde importiert von: https://eja-aalen.de/medien/kalender/ic
 alrepeat.detail/2022/04/02/941/-/schulung-mobile-seilaufbauten?tmpl=compone
 nt
X-ALT-DESC;FMTTYPE=text/html: <a href="https://eja-aalen.de/medien/kalender/icalrepeat.detail/2022/04/02
 /941/-/schulung-mobile-seilaufbauten?tmpl=component">Dieser Event wurde imp
 ortiert von: https://eja-aalen.de/medien/kalender/icalrepeat.detail/2022/04
 /02/941/-/schulung-mobile-seilaufbauten?tmpl=component</a>DTSTAMP:20260423T224302
DTSTART:20220402T100000
DTEND:20220402T170000
SEQUENCE:0
TRANSP:OPAQUE
END:VEVENT
END:VCALENDAR