BEGIN:VCALENDAR
VERSION:2.0
PRODID:-//jEvents 2.0 for Joomla//EN
CALSCALE:GREGORIAN
METHOD:PUBLISH
BEGIN:VEVENT
UID:6411abfdecbd8caaecb5960496532426
CATEGORIES:Veranstaltungen
CREATED:20220113T163457
SUMMARY:KTC (Kirchenteenieclub) - Quizabend
LOCATION:Lauchheim/Westhausen (oder online)
URL;VALUE=URI:https://eja-aalen.de/medien/kalender/icalrepeat.detail/2022/02/11/943/-/ktc
 -kirchenteenieclub-quizabend?tmpl=component
DESCRIPTION:Du bis in der 5. bis 7. Klasse?\nDann fühle dich herzlich eingeladen zu Spi
 el, Action und ganz viel Spaß!\n1x im Monat starten wir freitag Abends von 
 19:00 - 21:00 Uhr den KTC.\nJedes Mal gibt es was anderes zu erleben ;-)\nI
 nteresse? Dann melde dich schnell an unter: Diese E-Mail-Adresse ist vor Sp
 ambots geschützt! Zur Anzeige muss JavaScript eingeschaltet sein!
				docum
 ent.getElementById('cloakbbc8966ab362ebcaf9cbd4e748a546f5').innerHTML = '';
 
				var prefix = '&#109;a' + 'i&#108;' + '&#116;o';
				var path = 'hr' + 
 'ef' + '=';
				var addybbc8966ab362ebcaf9cbd4e748a546f5 = 't&#101;&#101;n&
 #105;&#101;cl&#117;b' + '&#64;';
				addybbc8966ab362ebcaf9cbd4e748a546f5 =
  addybbc8966ab362ebcaf9cbd4e748a546f5 + 'w&#101;b' + '&#46;' + 'd&#101;';
	
 			var addy_textbbc8966ab362ebcaf9cbd4e748a546f5 = 't&#101;&#101;n&#105;&#1
 01;cl&#117;b' + '&#64;' + 'w&#101;b' + '&#46;' + 'd&#101;';document.getElem
 entById('cloakbbc8966ab362ebcaf9cbd4e748a546f5').innerHTML += '<a ' + path 
 + '\'' + prefix + ':' + addybbc8966ab362ebcaf9cbd4e748a546f5 + '\'>'+addy_t
 extbbc8966ab362ebcaf9cbd4e748a546f5+'';
		\n Dieser Event wurde importiert 
 von: https://eja-aalen.de/medien/kalender/icalrepeat.detail/2022/02/11/943/
 -/ktc-kirchenteenieclub-quizabend?tmpl=component
X-ALT-DESC;FMTTYPE=text/html:<p>Du bis in der 5. bis 7. Klasse?</p><p>Dann f&uuml;hle dich herzlich eing
 eladen zu Spiel, Action und ganz viel Spa&szlig;!</p><p>1x im Monat starten
  wir freitag Abends von 19:00 - 21:00 Uhr den KTC.</p><p>Jedes Mal gibt es 
 was anderes zu erleben ;-)</p><p>Interesse? Dann melde dich schnell an unte
 r: <span id="cloakbbc8966ab362ebcaf9cbd4e748a546f5">Diese E-Mail-Adresse is
 t vor Spambots geschützt! Zur Anzeige muss JavaScript eingeschaltet sein!</
 span><script type='text/javascript'>
				document.getElementById('cloakbbc8
 966ab362ebcaf9cbd4e748a546f5').innerHTML = '';
				var prefix = '&#109;a' +
  'i&#108;' + '&#116;o';
				var path = 'hr' + 'ef' + '=';
				var addybbc89
 66ab362ebcaf9cbd4e748a546f5 = 't&#101;&#101;n&#105;&#101;cl&#117;b' + '&#64
 ;';
				addybbc8966ab362ebcaf9cbd4e748a546f5 = addybbc8966ab362ebcaf9cbd4e7
 48a546f5 + 'w&#101;b' + '&#46;' + 'd&#101;';
				var addy_textbbc8966ab362e
 bcaf9cbd4e748a546f5 = 't&#101;&#101;n&#105;&#101;cl&#117;b' + '&#64;' + 'w&
 #101;b' + '&#46;' + 'd&#101;';document.getElementById('cloakbbc8966ab362ebc
 af9cbd4e748a546f5').innerHTML += '<a ' + path + '\'' + prefix + ':' + addyb
 bc8966ab362ebcaf9cbd4e748a546f5 + '\'>'+addy_textbbc8966ab362ebcaf9cbd4e748
 a546f5+'<\/a>';
		</script></p> <a href="https://eja-aalen.de/medien/kalend
 er/icalrepeat.detail/2022/02/11/943/-/ktc-kirchenteenieclub-quizabend?tmpl=
 component">Dieser Event wurde importiert von: https://eja-aalen.de/medien/k
 alender/icalrepeat.detail/2022/02/11/943/-/ktc-kirchenteenieclub-quizabend?
 tmpl=component</a>CONTACT:Diese E-Mail-Adresse ist vor Spambots geschützt! Zur Anzeige muss JavaScript eingeschaltet sein!
				document.getElementById('cloak2a0cafe160a2fcee9d09fd912661606f').innerHTML = '';
				var prefix = '&#109;a' + 'i&#108;' + '&#116;o';
				var path = 'hr' + 'ef' + '=';
				var addy2a0cafe160a2fcee9d09fd912661606f = 't&#101;&#101;n&#105;&#101;cl&#117;b' + '&#64;';
				addy2a0cafe160a2fcee9d09fd912661606f = addy2a0cafe160a2fcee9d09fd912661606f + 'w&#101;b' + '&#46;' + 'd&#101;';
				var addy_text2a0cafe160a2fcee9d09fd912661606f = 't&#101;&#101;n&#105;&#101;cl&#117;b' + '&#64;' + 'w&#101;b' + '&#46;' + 'd&#101;';document.getElementById('cloak2a0cafe160a2fcee9d09fd912661606f').innerHTML += '<a ' + path + '\'' + prefix + ':' + addy2a0cafe160a2fcee9d09fd912661606f + '\'>'+addy_text2a0cafe160a2fcee9d09fd912661606f+'';
		
DTSTAMP:20260425T141810
DTSTART:20220211T190000
DTEND:20220211T210000
SEQUENCE:0
TRANSP:OPAQUE
END:VEVENT
END:VCALENDAR