BEGIN:VCALENDAR
VERSION:2.0
PRODID:-//jEvents 2.0 for Joomla//EN
CALSCALE:GREGORIAN
METHOD:PUBLISH
BEGIN:VEVENT
UID:53c40aba28f47ca23cb3fb425ab78f33
CATEGORIES:Gremien
CREATED:20220113T163958
SUMMARY:Konvent der Jugendreferent:innen
LOCATION:Bernhäuser Forst
URL;VALUE=URI:https://eja-aalen.de/medien/kalender/icalrepeat.detail/2022/03/07/945/-/kon
 vent-der-jugendreferent-innen?tmpl=component
DESCRIPTION: Dieser Event wurde importiert von: https://eja-aalen.de/medien/kalender/ic
 alrepeat.detail/2022/03/07/945/-/konvent-der-jugendreferent-innen?tmpl=comp
 onent (https://eja-aalen.de/medien/kalender/icalrepeat.detail/2022/03/07/94
 5/-/konvent-der-jugendreferent-innen?tmpl=component)
X-ALT-DESC;FMTTYPE=text/html: <a href="https://eja-aalen.de/medien/kalender/icalrepeat.detail/2022/03/07
 /945/-/konvent-der-jugendreferent-innen?tmpl=component">Dieser Event wurde 
 importiert von: https://eja-aalen.de/medien/kalender/icalrepeat.detail/2022
 /03/07/945/-/konvent-der-jugendreferent-innen?tmpl=component</a>CONTACT:Diese E-Mail-Adresse ist vor Spambots geschützt! Zur Anzeige muss JavaScript eingeschaltet sein!
				document.getElementById('cloakc29139fce8941179350fb59ea81b69ff').innerHTML = '';
				var prefix = '&#109;a' + 'i&#108;' + '&#116;o';
				var path = 'hr' + 'ef' + '=';
				var addyc29139fce8941179350fb59ea81b69ff = '&#101;j&#97;' + '&#64;';
				addyc29139fce8941179350fb59ea81b69ff = addyc29139fce8941179350fb59ea81b69ff + '&#101;j&#97;-&#97;&#97;l&#101;n' + '&#46;' + 'd&#101;';
				var addy_textc29139fce8941179350fb59ea81b69ff = '&#101;j&#97;' + '&#64;' + '&#101;j&#97;-&#97;&#97;l&#101;n' + '&#46;' + 'd&#101;';document.getElementById('cloakc29139fce8941179350fb59ea81b69ff').innerHTML += '<a ' + path + '\'' + prefix + ':' + addyc29139fce8941179350fb59ea81b69ff + '\'>'+addy_textc29139fce8941179350fb59ea81b69ff+'';
		
DTSTAMP:20260421T190901
DTSTART;VALUE=DATE:20220307
DTEND;VALUE=DATE:20220310
SEQUENCE:0
TRANSP:OPAQUE
END:VEVENT
END:VCALENDAR