BEGIN:VCALENDAR
VERSION:2.0
PRODID:-//jEvents 2.0 for Joomla//EN
CALSCALE:GREGORIAN
METHOD:PUBLISH
BEGIN:VEVENT
UID:a8e8d781bce5cdd39d9965ab0f78c281
CATEGORIES:Gremien
CREATED:20220113T164149
SUMMARY:BAK KlausurWE
LOCATION:Jugendhaus im Rottal
URL;VALUE=URI:https://eja-aalen.de/medien/kalender/icalrepeat.detail/2022/03/18/946/-/bak
 -klausurwe?tmpl=component
DESCRIPTION:BAK KlausurWE für alle aktuellen BAK Mitglieder.\n \n Dieser Event wurde im
 portiert von: https://eja-aalen.de/medien/kalender/icalrepeat.detail/2022/0
 3/18/946/-/bak-klausurwe?tmpl=component
X-ALT-DESC;FMTTYPE=text/html:<p>BAK KlausurWE f&uuml;r alle aktuellen BAK Mitglieder.</p><p>&nbsp;</p> <
 a href="https://eja-aalen.de/medien/kalender/icalrepeat.detail/2022/03/18/9
 46/-/bak-klausurwe?tmpl=component">Dieser Event wurde importiert von: https
 ://eja-aalen.de/medien/kalender/icalrepeat.detail/2022/03/18/946/-/bak-klau
 surwe?tmpl=component</a>CONTACT:Diese E-Mail-Adresse ist vor Spambots geschützt! Zur Anzeige muss JavaScript eingeschaltet sein!
				document.getElementById('cloakc04aee7c24cd0b7fe67f0623884a8da6').innerHTML = '';
				var prefix = '&#109;a' + 'i&#108;' + '&#116;o';
				var path = 'hr' + 'ef' + '=';
				var addyc04aee7c24cd0b7fe67f0623884a8da6 = 'v&#111;rs&#105;tz&#101;nd&#101;' + '&#64;';
				addyc04aee7c24cd0b7fe67f0623884a8da6 = addyc04aee7c24cd0b7fe67f0623884a8da6 + '&#101;j&#97;-&#97;&#97;l&#101;n' + '&#46;' + 'd&#101;';
				var addy_textc04aee7c24cd0b7fe67f0623884a8da6 = 'v&#111;rs&#105;tz&#101;nd&#101;' + '&#64;' + '&#101;j&#97;-&#97;&#97;l&#101;n' + '&#46;' + 'd&#101;';document.getElementById('cloakc04aee7c24cd0b7fe67f0623884a8da6').innerHTML += '<a ' + path + '\'' + prefix + ':' + addyc04aee7c24cd0b7fe67f0623884a8da6 + '\'>'+addy_textc04aee7c24cd0b7fe67f0623884a8da6+'';
		
DTSTAMP:20260423T125410
DTSTART:20220318T180000
DTEND:20220320T140000
SEQUENCE:0
TRANSP:OPAQUE
END:VEVENT
END:VCALENDAR