BEGIN:VCALENDAR
VERSION:2.0
PRODID:-//jEvents 2.0 for Joomla//EN
CALSCALE:GREGORIAN
METHOD:PUBLISH
BEGIN:VEVENT
UID:8ccb925f41cf2a58a17c1ea152364182
CATEGORIES:Jugendgottesdienste
CREATED:20220113T164628
SUMMARY:#klimafasten - Gottesdienst 11+
LOCATION:ökumenschies Zentrum Peter &amp; Paul in Aalen
URL;VALUE=URI:https://eja-aalen.de/medien/kalender/icalrepeat.detail/2022/04/03/947/-/kli
 mafasten-gottesdienst-11?tmpl=component
DESCRIPTION:#klimafasten\nWir machen mit und bieten dieses Jahr ein paar besondere Akti
 onen für Interessierte an.\nJugendgottesdienst in der Gemeinde Peter &amp; 
 Paul in Aalen\n Dieser Event wurde importiert von: https://eja-aalen.de/med
 ien/kalender/icalrepeat.detail/2022/04/03/947/-/klimafasten-gottesdienst-11
 ?tmpl=component
X-ALT-DESC;FMTTYPE=text/html:<p>#klimafasten</p><p>Wir machen mit und bieten dieses Jahr ein paar besond
 ere Aktionen f&uuml;r Interessierte an.</p><p>Jugendgottesdienst in der Gem
 einde Peter &amp; Paul in Aalen</p> <a href="https://eja-aalen.de/medien/ka
 lender/icalrepeat.detail/2022/04/03/947/-/klimafasten-gottesdienst-11?tmpl=
 component">Dieser Event wurde importiert von: https://eja-aalen.de/medien/k
 alender/icalrepeat.detail/2022/04/03/947/-/klimafasten-gottesdienst-11?tmpl
 =component</a>CONTACT:Diese E-Mail-Adresse ist vor Spambots geschützt! Zur Anzeige muss JavaScript eingeschaltet sein!
				document.getElementById('cloak39d097a70b9847998a8d078c29d93cda').innerHTML = '';
				var prefix = '&#109;a' + 'i&#108;' + '&#116;o';
				var path = 'hr' + 'ef' + '=';
				var addy39d097a70b9847998a8d078c29d93cda = 'g&#101;mp&#101;rl&#101;&#105;n.v&#101;r&#101;n&#97;' + '&#64;';
				addy39d097a70b9847998a8d078c29d93cda = addy39d097a70b9847998a8d078c29d93cda + '&#101;j&#97;-&#97;&#97;l&#101;n' + '&#46;' + 'd&#101;';
				var addy_text39d097a70b9847998a8d078c29d93cda = 'g&#101;mp&#101;rl&#101;&#105;n.v&#101;r&#101;n&#97;' + '&#64;' + '&#101;j&#97;-&#97;&#97;l&#101;n' + '&#46;' + 'd&#101;';document.getElementById('cloak39d097a70b9847998a8d078c29d93cda').innerHTML += '<a ' + path + '\'' + prefix + ':' + addy39d097a70b9847998a8d078c29d93cda + '\'>'+addy_text39d097a70b9847998a8d078c29d93cda+'';
		
DTSTAMP:20260422T125425
DTSTART:20220403T110000
SEQUENCE:0
TRANSP:OPAQUE
END:VEVENT
END:VCALENDAR