BEGIN:VCALENDAR
VERSION:2.0
PRODID:-//jEvents 2.0 for Joomla//EN
CALSCALE:GREGORIAN
METHOD:PUBLISH
BEGIN:VEVENT
UID:0f66f4cb9b8e15a7ebe0bebe9e688bb0
CATEGORIES:Freizeiten
CREATED:20220113T170624
SUMMARY:AlbDraufgänger #wanderbar
LOCATION:Kirchenbezirk Aalen und Umgebung
URL;VALUE=URI:https://eja-aalen.de/medien/kalender/icalrepeat.detail/2022/05/25/950/-/alb
 draufgaenger-wanderbar?tmpl=component
DESCRIPTION:Du bist mindestens 15 Jahre und suchst eine Auszeit?\nHast Lust mit uns los
 zuwandern,\nwillst vier Tage lang unterwegs sein,\nmit dir, Gott und der Ge
 meinschaft was erleben?\nDann melde dich an, pack dein Wanderzeug und mach 
 dich mit uns auf den Weg!\nStart: Mittwoch ab 18:00 Uhr in Kirchheim/Ries\n
 Ende: Sonntag gegen Mittag\n Dieser Event wurde importiert von: https://eja
 -aalen.de/medien/kalender/icalrepeat.detail/2022/05/25/950/-/albdraufgaenge
 r-wanderbar?tmpl=component (https://eja-aalen.de/medien/kalender/icalrepeat
 .detail/2022/05/25/950/-/albdraufgaenger-wanderbar?tmpl=component)
X-ALT-DESC;FMTTYPE=text/html:<p>Du bist mindestens 15 Jahre und suchst eine Auszeit?</p><p>Hast Lust mit
  uns loszuwandern,</p><p>willst vier Tage lang unterwegs sein,</p><p>mit di
 r, Gott und der Gemeinschaft was erleben?</p><p>Dann melde dich an, pack de
 in Wanderzeug und mach dich mit uns auf den Weg!</p><p>Start: Mittwoch ab 1
 8:00 Uhr in Kirchheim/Ries</p><p>Ende: Sonntag gegen Mittag</p> <a href="ht
 tps://eja-aalen.de/medien/kalender/icalrepeat.detail/2022/05/25/950/-/albdr
 aufgaenger-wanderbar?tmpl=component">Dieser Event wurde importiert von: htt
 ps://eja-aalen.de/medien/kalender/icalrepeat.detail/2022/05/25/950/-/albdra
 ufgaenger-wanderbar?tmpl=component</a>CONTACT:Diese E-Mail-Adresse ist vor Spambots geschützt! Zur Anzeige muss JavaScript eingeschaltet sein!
				document.getElementById('cloak59d0d22b11d7cf93171168537ec2b9fa').innerHTML = '';
				var prefix = '&#109;a' + 'i&#108;' + '&#116;o';
				var path = 'hr' + 'ef' + '=';
				var addy59d0d22b11d7cf93171168537ec2b9fa = 'g&#101;mp&#101;rl&#101;&#105;n.v&#101;r&#101;n&#97;' + '&#64;';
				addy59d0d22b11d7cf93171168537ec2b9fa = addy59d0d22b11d7cf93171168537ec2b9fa + '&#101;j&#97;-&#97;&#97;l&#101;n' + '&#46;' + 'd&#101;';
				var addy_text59d0d22b11d7cf93171168537ec2b9fa = 'g&#101;mp&#101;rl&#101;&#105;n.v&#101;r&#101;n&#97;' + '&#64;' + '&#101;j&#97;-&#97;&#97;l&#101;n' + '&#46;' + 'd&#101;';document.getElementById('cloak59d0d22b11d7cf93171168537ec2b9fa').innerHTML += '<a ' + path + '\'' + prefix + ':' + addy59d0d22b11d7cf93171168537ec2b9fa + '\'>'+addy_text59d0d22b11d7cf93171168537ec2b9fa+'';
		
X-EXTRAINFO:Anmeldung ab sofort möglich: https://eja-aalen.de/freizeiten
DTSTAMP:20260422T143235
DTSTART;VALUE=DATE:20220525
DTEND;VALUE=DATE:20220530
SEQUENCE:0
TRANSP:OPAQUE
END:VEVENT
END:VCALENDAR