BEGIN:VCALENDAR
VERSION:2.0
PRODID:-//jEvents 2.0 for Joomla//EN
CALSCALE:GREGORIAN
METHOD:PUBLISH
BEGIN:VEVENT
UID:ab9a54d539b002faf2ab438b744db880
CATEGORIES:Freizeiten
CREATED:19700101T000000
SUMMARY:40 Jahre LKB - oifach schee!
LOCATION:Bopfingen-Trochtelfingen
URL;VALUE=URI:https://eja-aalen.de/medien/kalender/icalrepeat.detail/2022/08/22/952/-/40-
 jahre-lkb-oifach-schee?tmpl=component
DESCRIPTION:<p>40 j&auml;hriges Jubil&auml;um der LKB -</p><p>mit jeder Menge Spa&szlig
 ;, Bastelei, guter Laune, Spielen, Singen, Tanzen, Suchen, Finden, Springen
 ...</p><p>und dem ultimativen Biblischen Erlebnisprogramm, das uns durch di
 e Freizeit f&uuml;hrt!</p><p>&nbsp;</p> <a href="https://eja-aalen.de/medie
 n/kalender/icalrepeat.detail/2022/08/22/952/-/40-jahre-lkb-oifach-schee?tmp
 l=component">Dieser Event wurde importiert von: https://eja-aalen.de/medien
 /kalender/icalrepeat.detail/2022/08/22/952/-/40-jahre-lkb-oifach-schee?tmpl
 =component</a>CONTACT:lkb@eja-aalen.de
X-EXTRAINFO:eja@eja-aalen.de\nnur mit vorheriger Anmeldung unter \nwww.eja-aalen.de mög
 lich
DTSTAMP:20260423T035241
DTSTART;VALUE=DATE:20220822
DTEND;VALUE=DATE:20220827
SEQUENCE:0
RRULE:FREQ=WEEKLY;UNTIL=20220901T000000Z;INTERVAL=1;BYDAY=MO
TRANSP:OPAQUE
END:VEVENT
END:VCALENDAR