BEGIN:VCALENDAR
VERSION:2.0
PRODID:-//jEvents 2.0 for Joomla//EN
CALSCALE:GREGORIAN
METHOD:PUBLISH
BEGIN:VEVENT
UID:61095f2ef32a86cdf635136356a3785b
CATEGORIES:Freizeiten
CREATED:20220113T171846
SUMMARY:40 Jahre LKB - Ausklang für Mitarbeiter:innen
URL;VALUE=URI:https://eja-aalen.de/medien/kalender/icalrepeat.detail/2022/09/03/954/-/40-
 jahre-lkb-ausklang-fuer-mitarbeiter-innen?tmpl=component
DESCRIPTION:Abbau, Abschied und Heimreise\n Dieser Event wurde importiert von: https://
 eja-aalen.de/medien/kalender/icalrepeat.detail/2022/09/03/954/-/40-jahre-lk
 b-ausklang-fuer-mitarbeiter-innen?tmpl=component (https://eja-aalen.de/medi
 en/kalender/icalrepeat.detail/2022/09/03/954/-/40-jahre-lkb-ausklang-fuer-m
 itarbeiter-innen?tmpl=component)
X-ALT-DESC;FMTTYPE=text/html:<p>Abbau, Abschied und Heimreise</p> <a href="https://eja-aalen.de/medien/k
 alender/icalrepeat.detail/2022/09/03/954/-/40-jahre-lkb-ausklang-fuer-mitar
 beiter-innen?tmpl=component">Dieser Event wurde importiert von: https://eja
 -aalen.de/medien/kalender/icalrepeat.detail/2022/09/03/954/-/40-jahre-lkb-a
 usklang-fuer-mitarbeiter-innen?tmpl=component</a>CONTACT:Diese E-Mail-Adresse ist vor Spambots geschützt! Zur Anzeige muss JavaScript eingeschaltet sein!
				document.getElementById('cloak3377a798158b1529ee5945394501d054').innerHTML = '';
				var prefix = '&#109;a' + 'i&#108;' + '&#116;o';
				var path = 'hr' + 'ef' + '=';
				var addy3377a798158b1529ee5945394501d054 = 'lkb' + '&#64;';
				addy3377a798158b1529ee5945394501d054 = addy3377a798158b1529ee5945394501d054 + '&#101;j&#97;-&#97;&#97;l&#101;n' + '&#46;' + 'd&#101;';
				var addy_text3377a798158b1529ee5945394501d054 = 'lkb' + '&#64;' + '&#101;j&#97;-&#97;&#97;l&#101;n' + '&#46;' + 'd&#101;';document.getElementById('cloak3377a798158b1529ee5945394501d054').innerHTML += '<a ' + path + '\'' + prefix + ':' + addy3377a798158b1529ee5945394501d054 + '\'>'+addy_text3377a798158b1529ee5945394501d054+'';
		
DTSTAMP:20260422T225426
DTSTART;VALUE=DATE:20220903
DTEND;VALUE=DATE:20220904
SEQUENCE:0
TRANSP:OPAQUE
END:VEVENT
END:VCALENDAR