BEGIN:VCALENDAR
VERSION:2.0
PRODID:-//jEvents 2.0 for Joomla//EN
CALSCALE:GREGORIAN
METHOD:PUBLISH
BEGIN:VEVENT
UID:829406e4430fa27a9505e64c517dd6e2
CATEGORIES:Schulungen
CREATED:20220223T094135
SUMMARY:Erste-Hilfe-Schulung (FTH Leinroden)
URL;VALUE=URI:https://eja-aalen.de/medien/kalender/icalrepeat.detail/2022/04/09/957/-/ers
 te-hilfe-schulung-fth-leinroden?tmpl=component
DESCRIPTION: <a href="https://eja-aalen.de/medien/kalender/icalrepeat.detail/2022/04/09
 /957/-/erste-hilfe-schulung-fth-leinroden?tmpl=component">Dieser Event wurd
 e importiert von: https://eja-aalen.de/medien/kalender/icalrepeat.detail/20
 22/04/09/957/-/erste-hilfe-schulung-fth-leinroden?tmpl=component</a>DTSTAMP:20260423T042212
DTSTART:20220409T090000
DTEND:20220409T170000
SEQUENCE:0
TRANSP:OPAQUE
END:VEVENT
END:VCALENDAR