BEGIN:VCALENDAR
VERSION:2.0
PRODID:-//jEvents 2.0 for Joomla//EN
CALSCALE:GREGORIAN
METHOD:PUBLISH
BEGIN:VEVENT
UID:e74cd2f9b5636672640299e775a79bdb
CATEGORIES:Region Süd Vakant
CREATED:20220304T103928
SUMMARY:Teilbesetzung EJA (Konvent JuRefs)
URL;VALUE=URI:https://eja-aalen.de/medien/kalender/icalrepeat.detail/2022/03/07/958/-/tei
 lbesetzung-eja-konvent-jurefs?tmpl=component
DESCRIPTION: Dieser Event wurde importiert von: https://eja-aalen.de/medien/kalender/ic
 alrepeat.detail/2022/03/07/958/-/teilbesetzung-eja-konvent-jurefs?tmpl=comp
 onent (https://eja-aalen.de/medien/kalender/icalrepeat.detail/2022/03/07/95
 8/-/teilbesetzung-eja-konvent-jurefs?tmpl=component)
X-ALT-DESC;FMTTYPE=text/html: <a href="https://eja-aalen.de/medien/kalender/icalrepeat.detail/2022/03/07
 /958/-/teilbesetzung-eja-konvent-jurefs?tmpl=component">Dieser Event wurde 
 importiert von: https://eja-aalen.de/medien/kalender/icalrepeat.detail/2022
 /03/07/958/-/teilbesetzung-eja-konvent-jurefs?tmpl=component</a>DTSTAMP:20260422T125440
DTSTART;VALUE=DATE:20220307
DTEND;VALUE=DATE:20220310
SEQUENCE:0
TRANSP:OPAQUE
END:VEVENT
END:VCALENDAR